BEGIN:VCALENDAR
METHOD:PUBLISH
PRODID:Microsoft Exchange Server 2010
VERSION:2.0
X-WR-CALNAME:SASE General Member Calendar
BEGIN:VTIMEZONE
TZID:Eastern Standard Time
BEGIN:STANDARD
DTSTART:16010101T020000
TZOFFSETFROM:-0400
TZOFFSETTO:-0500
RRULE:FREQ=YEARLY;INTERVAL=1;BYDAY=1SU;BYMONTH=11
END:STANDARD
BEGIN:DAYLIGHT
DTSTART:16010101T020000
TZOFFSETFROM:-0500
TZOFFSETTO:-0400
RRULE:FREQ=YEARLY;INTERVAL=1;BYDAY=2SU;BYMONTH=3
END:DAYLIGHT
END:VTIMEZONE
BEGIN:VEVENT
DESCRIPTION:Details TBD\n
UID:040000008200E00074C5B7101A82E0080000000026CA5489D1ABDB01000000000000000
 0100000003ED076935F66AA4782C6BE91D6C8EB74
SUMMARY:Relay for Life
DTSTART;VALUE=DATE:20250425
DTEND;VALUE=DATE:20250426
CLASS:PUBLIC
PRIORITY:5
DTSTAMP:20260425T210506Z
TRANSP:TRANSPARENT
STATUS:CONFIRMED
SEQUENCE:0
LOCATION:
X-MICROSOFT-CDO-APPT-SEQUENCE:0
X-MICROSOFT-CDO-BUSYSTATUS:FREE
X-MICROSOFT-CDO-INTENDEDSTATUS:BUSY
X-MICROSOFT-CDO-ALLDAYEVENT:TRUE
X-MICROSOFT-CDO-IMPORTANCE:1
X-MICROSOFT-CDO-INSTTYPE:0
X-MICROSOFT-DONOTFORWARDMEETING:FALSE
X-MICROSOFT-DISALLOW-COUNTER:FALSE
X-MICROSOFT-REQUESTEDATTENDANCEMODE:DEFAULT
X-MICROSOFT-ISRESPONSEREQUESTED:FALSE
END:VEVENT
BEGIN:VEVENT
DESCRIPTION:\n
UID:040000008200E00074C5B7101A82E008000000000C9BFE2ECD71DB01000000000000000
 010000000E64A74EA27DC8C43A93AA1ED387B1756
SUMMARY:Last GBM of the Year
DTSTART;TZID=Eastern Standard Time:20250429T190000
DTEND;TZID=Eastern Standard Time:20250429T210000
CLASS:PUBLIC
PRIORITY:5
DTSTAMP:20260425T210506Z
TRANSP:OPAQUE
STATUS:CONFIRMED
SEQUENCE:0
LOCATION:NCB 320
X-MICROSOFT-CDO-APPT-SEQUENCE:0
X-MICROSOFT-CDO-BUSYSTATUS:BUSY
X-MICROSOFT-CDO-INTENDEDSTATUS:BUSY
X-MICROSOFT-CDO-ALLDAYEVENT:FALSE
X-MICROSOFT-CDO-IMPORTANCE:1
X-MICROSOFT-CDO-INSTTYPE:0
X-MICROSOFT-DONOTFORWARDMEETING:FALSE
X-MICROSOFT-DISALLOW-COUNTER:FALSE
X-MICROSOFT-REQUESTEDATTENDANCEMODE:DEFAULT
X-MICROSOFT-ISRESPONSEREQUESTED:FALSE
END:VEVENT
BEGIN:VEVENT
DESCRIPTION:in Pamplin 3004\n
UID:040000008200E00074C5B7101A82E008000000009CDB8ACC8FB7DB01000000000000000
 010000000A67D865F924FAC45936B285500F5B832
SUMMARY:SASE Senior Panel
DTSTART;TZID=Eastern Standard Time:20250501T170000
DTEND;TZID=Eastern Standard Time:20250501T180000
CLASS:PUBLIC
PRIORITY:5
DTSTAMP:20260425T210506Z
TRANSP:OPAQUE
STATUS:CONFIRMED
SEQUENCE:0
LOCATION:
X-MICROSOFT-CDO-APPT-SEQUENCE:0
X-MICROSOFT-CDO-BUSYSTATUS:BUSY
X-MICROSOFT-CDO-INTENDEDSTATUS:BUSY
X-MICROSOFT-CDO-ALLDAYEVENT:FALSE
X-MICROSOFT-CDO-IMPORTANCE:1
X-MICROSOFT-CDO-INSTTYPE:0
X-MICROSOFT-DONOTFORWARDMEETING:FALSE
X-MICROSOFT-DISALLOW-COUNTER:FALSE
X-MICROSOFT-REQUESTEDATTENDANCEMODE:DEFAULT
X-MICROSOFT-ISRESPONSEREQUESTED:FALSE
END:VEVENT
BEGIN:VEVENT
DESCRIPTION:\n
UID:040000008200E00074C5B7101A82E00800000000F8D48E3ADABADB01000000000000000
 0100000007E5D6114F6DB1646BA9EBF26013727F4
SUMMARY:SASE Study Nights
DTSTART;TZID=Eastern Standard Time:20250505T180000
DTEND;TZID=Eastern Standard Time:20250505T210000
CLASS:PUBLIC
PRIORITY:5
DTSTAMP:20260425T210506Z
TRANSP:OPAQUE
STATUS:CONFIRMED
SEQUENCE:0
LOCATION:Surge104D
X-MICROSOFT-CDO-APPT-SEQUENCE:0
X-MICROSOFT-CDO-BUSYSTATUS:BUSY
X-MICROSOFT-CDO-INTENDEDSTATUS:BUSY
X-MICROSOFT-CDO-ALLDAYEVENT:FALSE
X-MICROSOFT-CDO-IMPORTANCE:1
X-MICROSOFT-CDO-INSTTYPE:0
X-MICROSOFT-DONOTFORWARDMEETING:FALSE
X-MICROSOFT-DISALLOW-COUNTER:FALSE
X-MICROSOFT-REQUESTEDATTENDANCEMODE:DEFAULT
X-MICROSOFT-ISRESPONSEREQUESTED:FALSE
END:VEVENT
BEGIN:VEVENT
DESCRIPTION:\n
UID:040000008200E00074C5B7101A82E0080000000051CCBC0FE0FCDB01000000000000000
 01000000019CA8DA62EE8D14DB64368CEB8434A15
SUMMARY:Kokee Tea Fundraiser
DTSTART;TZID=Eastern Standard Time:20250726T120000
DTEND;TZID=Eastern Standard Time:20250726T210000
CLASS:PUBLIC
PRIORITY:5
DTSTAMP:20260425T210506Z
TRANSP:OPAQUE
STATUS:CONFIRMED
SEQUENCE:0
LOCATION:9668 Main St A\, Fairfax\, VA 22031
X-MICROSOFT-CDO-APPT-SEQUENCE:0
X-MICROSOFT-CDO-BUSYSTATUS:BUSY
X-MICROSOFT-CDO-INTENDEDSTATUS:BUSY
X-MICROSOFT-CDO-ALLDAYEVENT:FALSE
X-MICROSOFT-CDO-IMPORTANCE:1
X-MICROSOFT-CDO-INSTTYPE:0
X-MICROSOFT-DONOTFORWARDMEETING:FALSE
X-MICROSOFT-DISALLOW-COUNTER:FALSE
X-MICROSOFT-REQUESTEDATTENDANCEMODE:DEFAULT
X-MICROSOFT-ISRESPONSEREQUESTED:FALSE
END:VEVENT
BEGIN:VEVENT
DESCRIPTION:\n
UID:040000008200E00074C5B7101A82E00800000000A4F97943F41CDC01000000000000000
 010000000AD91F2D3C1660F4CB38D52A5C9E45619
SUMMARY:CMTA Event
DTSTART;TZID=Eastern Standard Time:20250903T173000
DTEND;TZID=Eastern Standard Time:20250903T190000
CLASS:PUBLIC
PRIORITY:5
DTSTAMP:20260425T210506Z
TRANSP:OPAQUE
STATUS:CONFIRMED
SEQUENCE:0
LOCATION:PAMPLIN 3001
X-MICROSOFT-CDO-APPT-SEQUENCE:0
X-MICROSOFT-CDO-BUSYSTATUS:BUSY
X-MICROSOFT-CDO-INTENDEDSTATUS:BUSY
X-MICROSOFT-CDO-ALLDAYEVENT:FALSE
X-MICROSOFT-CDO-IMPORTANCE:1
X-MICROSOFT-CDO-INSTTYPE:0
X-MICROSOFT-DONOTFORWARDMEETING:FALSE
X-MICROSOFT-DISALLOW-COUNTER:FALSE
X-MICROSOFT-REQUESTEDATTENDANCEMODE:DEFAULT
X-MICROSOFT-ISRESPONSEREQUESTED:FALSE
END:VEVENT
BEGIN:VEVENT
DESCRIPTION:\n
UID:040000008200E00074C5B7101A82E00800000000CDBEEB84F41CDC01000000000000000
 010000000728E7A82826D7B4697B55257E9D7449F
SUMMARY:Altec Industries Info Session and Workshop
DTSTART;TZID=Eastern Standard Time:20250904T180000
DTEND;TZID=Eastern Standard Time:20250904T190000
CLASS:PUBLIC
PRIORITY:5
DTSTAMP:20260425T210506Z
TRANSP:OPAQUE
STATUS:CONFIRMED
SEQUENCE:0
LOCATION:SURGE 108A
X-MICROSOFT-CDO-APPT-SEQUENCE:0
X-MICROSOFT-CDO-BUSYSTATUS:BUSY
X-MICROSOFT-CDO-INTENDEDSTATUS:BUSY
X-MICROSOFT-CDO-ALLDAYEVENT:FALSE
X-MICROSOFT-CDO-IMPORTANCE:1
X-MICROSOFT-CDO-INSTTYPE:0
X-MICROSOFT-DONOTFORWARDMEETING:FALSE
X-MICROSOFT-DISALLOW-COUNTER:FALSE
X-MICROSOFT-REQUESTEDATTENDANCEMODE:DEFAULT
X-MICROSOFT-ISRESPONSEREQUESTED:FALSE
END:VEVENT
BEGIN:VEVENT
DESCRIPTION:\n
UID:040000008200E00074C5B7101A82E008000000002F9FA51BF51CDC01000000000000000
 010000000310E1EE8CE919E449D585CD7FC842020
SUMMARY:TI Info Session and Workshop
DTSTART;TZID=Eastern Standard Time:20250911T170000
DTEND;TZID=Eastern Standard Time:20250911T183000
CLASS:PUBLIC
PRIORITY:5
DTSTAMP:20260425T210506Z
TRANSP:OPAQUE
STATUS:CONFIRMED
SEQUENCE:0
LOCATION:PAMPLIN1008
X-MICROSOFT-CDO-APPT-SEQUENCE:0
X-MICROSOFT-CDO-BUSYSTATUS:BUSY
X-MICROSOFT-CDO-INTENDEDSTATUS:BUSY
X-MICROSOFT-CDO-ALLDAYEVENT:FALSE
X-MICROSOFT-CDO-IMPORTANCE:1
X-MICROSOFT-CDO-INSTTYPE:0
X-MICROSOFT-DONOTFORWARDMEETING:FALSE
X-MICROSOFT-DISALLOW-COUNTER:FALSE
X-MICROSOFT-REQUESTEDATTENDANCEMODE:DEFAULT
X-MICROSOFT-ISRESPONSEREQUESTED:FALSE
END:VEVENT
BEGIN:VEVENT
DESCRIPTION:\n
UID:040000008200E00074C5B7101A82E008000000003FD76E1A0724DC01000000000000000
 010000000F698C96D82B22D40BE1DE67B891C1D20
SUMMARY:Welcome Back Event
DTSTART;TZID=Eastern Standard Time:20250912T170000
DTEND;TZID=Eastern Standard Time:20250912T190000
CLASS:PUBLIC
PRIORITY:5
DTSTAMP:20260425T210506Z
TRANSP:OPAQUE
STATUS:CONFIRMED
SEQUENCE:0
LOCATION:Prarie Quad
X-MICROSOFT-CDO-APPT-SEQUENCE:0
X-MICROSOFT-CDO-BUSYSTATUS:BUSY
X-MICROSOFT-CDO-INTENDEDSTATUS:BUSY
X-MICROSOFT-CDO-ALLDAYEVENT:FALSE
X-MICROSOFT-CDO-IMPORTANCE:1
X-MICROSOFT-CDO-INSTTYPE:0
X-MICROSOFT-DONOTFORWARDMEETING:FALSE
X-MICROSOFT-DISALLOW-COUNTER:FALSE
X-MICROSOFT-REQUESTEDATTENDANCEMODE:DEFAULT
X-MICROSOFT-ISRESPONSEREQUESTED:FALSE
END:VEVENT
BEGIN:VEVENT
DESCRIPTION:\n
UID:040000008200E00074C5B7101A82E008000000001317E33B9626DC01000000000000000
 010000000AB0A08A6D2837C4C8F7F32580D87BD07
SUMMARY:SASE Moge Tea Fundraiser
DTSTART;VALUE=DATE:20250918
DTEND;VALUE=DATE:20250919
CLASS:PUBLIC
PRIORITY:5
DTSTAMP:20260425T210506Z
TRANSP:TRANSPARENT
STATUS:CONFIRMED
SEQUENCE:0
LOCATION:
X-MICROSOFT-CDO-APPT-SEQUENCE:0
X-MICROSOFT-CDO-BUSYSTATUS:FREE
X-MICROSOFT-CDO-INTENDEDSTATUS:BUSY
X-MICROSOFT-CDO-ALLDAYEVENT:TRUE
X-MICROSOFT-CDO-IMPORTANCE:1
X-MICROSOFT-CDO-INSTTYPE:0
X-MICROSOFT-DONOTFORWARDMEETING:FALSE
X-MICROSOFT-DISALLOW-COUNTER:FALSE
X-MICROSOFT-REQUESTEDATTENDANCEMODE:DEFAULT
X-MICROSOFT-ISRESPONSEREQUESTED:FALSE
END:VEVENT
BEGIN:VEVENT
DESCRIPTION:SURGE 108D\n
UID:040000008200E00074C5B7101A82E00800000000F3CAC7229626DC01000000000000000
 01000000073AC46DA41BE464D9667E64B914BD078
SUMMARY:SASE 1st General Body Meeting (GBM)
DTSTART;TZID=Eastern Standard Time:20250918T180000
DTEND;TZID=Eastern Standard Time:20250918T200000
CLASS:PUBLIC
PRIORITY:5
DTSTAMP:20260425T210506Z
TRANSP:OPAQUE
STATUS:CONFIRMED
SEQUENCE:0
LOCATION:
X-MICROSOFT-CDO-APPT-SEQUENCE:0
X-MICROSOFT-CDO-BUSYSTATUS:BUSY
X-MICROSOFT-CDO-INTENDEDSTATUS:BUSY
X-MICROSOFT-CDO-ALLDAYEVENT:FALSE
X-MICROSOFT-CDO-IMPORTANCE:1
X-MICROSOFT-CDO-INSTTYPE:0
X-MICROSOFT-DONOTFORWARDMEETING:FALSE
X-MICROSOFT-DISALLOW-COUNTER:FALSE
X-MICROSOFT-REQUESTEDATTENDANCEMODE:DEFAULT
X-MICROSOFT-ISRESPONSEREQUESTED:FALSE
END:VEVENT
BEGIN:VEVENT
DESCRIPTION:\n
UID:040000008200E00074C5B7101A82E0080000000062FC301CC62CDC01000000000000000
 0100000005838090E067E9546AE5E1C0B8164E3C5
SUMMARY:Deets Night Mentor Mentee Mingle Week
DTSTART;TZID=Eastern Standard Time:20250923T180000
DTEND;TZID=Eastern Standard Time:20250923T200000
CLASS:PUBLIC
PRIORITY:5
DTSTAMP:20260425T210506Z
TRANSP:OPAQUE
STATUS:CONFIRMED
SEQUENCE:0
LOCATION:Dietrick Lawn
X-MICROSOFT-CDO-APPT-SEQUENCE:0
X-MICROSOFT-CDO-BUSYSTATUS:BUSY
X-MICROSOFT-CDO-INTENDEDSTATUS:BUSY
X-MICROSOFT-CDO-ALLDAYEVENT:FALSE
X-MICROSOFT-CDO-IMPORTANCE:1
X-MICROSOFT-CDO-INSTTYPE:0
X-MICROSOFT-DONOTFORWARDMEETING:FALSE
X-MICROSOFT-DISALLOW-COUNTER:FALSE
X-MICROSOFT-REQUESTEDATTENDANCEMODE:DEFAULT
X-MICROSOFT-ISRESPONSEREQUESTED:FALSE
END:VEVENT
BEGIN:VEVENT
DESCRIPTION:\n
UID:040000008200E00074C5B7101A82E0080000000081AB794BC62CDC01000000000000000
 010000000AF3F100745E3BD458F82D004C8A8250C
SUMMARY:Slime and Bracelets Mentor Mentee Mingle Week
DTSTART;TZID=Eastern Standard Time:20250924T190000
DTEND;TZID=Eastern Standard Time:20250924T210000
CLASS:PUBLIC
PRIORITY:5
DTSTAMP:20260425T210506Z
TRANSP:OPAQUE
STATUS:CONFIRMED
SEQUENCE:0
LOCATION:Robeson 105
X-MICROSOFT-CDO-APPT-SEQUENCE:0
X-MICROSOFT-CDO-BUSYSTATUS:BUSY
X-MICROSOFT-CDO-INTENDEDSTATUS:BUSY
X-MICROSOFT-CDO-ALLDAYEVENT:FALSE
X-MICROSOFT-CDO-IMPORTANCE:1
X-MICROSOFT-CDO-INSTTYPE:0
X-MICROSOFT-DONOTFORWARDMEETING:FALSE
X-MICROSOFT-DISALLOW-COUNTER:FALSE
X-MICROSOFT-REQUESTEDATTENDANCEMODE:DEFAULT
X-MICROSOFT-ISRESPONSEREQUESTED:FALSE
END:VEVENT
BEGIN:VEVENT
DESCRIPTION:\n
UID:040000008200E00074C5B7101A82E008000000001789DDCCC62CDC01000000000000000
 010000000C81AF443B50EF44CA26E11BEF94D2000
SUMMARY:Tote Bag Painting Mentor Mentee Mingle Week
DTSTART;TZID=Eastern Standard Time:20250925T190000
DTEND;TZID=Eastern Standard Time:20250925T210000
CLASS:PUBLIC
PRIORITY:5
DTSTAMP:20260425T210506Z
TRANSP:OPAQUE
STATUS:CONFIRMED
SEQUENCE:0
LOCATION:Pamplin 3004
X-MICROSOFT-CDO-APPT-SEQUENCE:0
X-MICROSOFT-CDO-BUSYSTATUS:BUSY
X-MICROSOFT-CDO-INTENDEDSTATUS:BUSY
X-MICROSOFT-CDO-ALLDAYEVENT:FALSE
X-MICROSOFT-CDO-IMPORTANCE:1
X-MICROSOFT-CDO-INSTTYPE:0
X-MICROSOFT-DONOTFORWARDMEETING:FALSE
X-MICROSOFT-DISALLOW-COUNTER:FALSE
X-MICROSOFT-REQUESTEDATTENDANCEMODE:DEFAULT
X-MICROSOFT-ISRESPONSEREQUESTED:FALSE
END:VEVENT
BEGIN:VEVENT
DESCRIPTION:\n
UID:040000008200E00074C5B7101A82E00800000000469E35F8C62CDC01000000000000000
 0100000001F58DD48DAE1E14D9ED27AFA0DC84294
SUMMARY:Game Night Mentor Mentee Mingle Week
DTSTART;TZID=Eastern Standard Time:20250926T180000
DTEND;TZID=Eastern Standard Time:20250926T200000
CLASS:PUBLIC
PRIORITY:5
DTSTAMP:20260425T210506Z
TRANSP:OPAQUE
STATUS:CONFIRMED
SEQUENCE:0
LOCATION:NCB250
X-MICROSOFT-CDO-APPT-SEQUENCE:0
X-MICROSOFT-CDO-BUSYSTATUS:BUSY
X-MICROSOFT-CDO-INTENDEDSTATUS:BUSY
X-MICROSOFT-CDO-ALLDAYEVENT:FALSE
X-MICROSOFT-CDO-IMPORTANCE:1
X-MICROSOFT-CDO-INSTTYPE:0
X-MICROSOFT-DONOTFORWARDMEETING:FALSE
X-MICROSOFT-DISALLOW-COUNTER:FALSE
X-MICROSOFT-REQUESTEDATTENDANCEMODE:DEFAULT
X-MICROSOFT-ISRESPONSEREQUESTED:FALSE
END:VEVENT
BEGIN:VEVENT
DESCRIPTION:\n
UID:040000008200E00074C5B7101A82E008000000006AC089E772DADB01000000000000000
 010000000779BB6DCD9164F40836D1538CBC4C89E
SUMMARY:SASE National Conference
DTSTART;VALUE=DATE:20251002
DTEND;VALUE=DATE:20251005
CLASS:PUBLIC
PRIORITY:5
DTSTAMP:20260425T210506Z
TRANSP:TRANSPARENT
STATUS:CONFIRMED
SEQUENCE:0
LOCATION:
X-MICROSOFT-CDO-APPT-SEQUENCE:0
X-MICROSOFT-CDO-BUSYSTATUS:FREE
X-MICROSOFT-CDO-INTENDEDSTATUS:BUSY
X-MICROSOFT-CDO-ALLDAYEVENT:TRUE
X-MICROSOFT-CDO-IMPORTANCE:1
X-MICROSOFT-CDO-INSTTYPE:0
X-MICROSOFT-DONOTFORWARDMEETING:FALSE
X-MICROSOFT-DISALLOW-COUNTER:FALSE
X-MICROSOFT-REQUESTEDATTENDANCEMODE:DEFAULT
X-MICROSOFT-ISRESPONSEREQUESTED:FALSE
END:VEVENT
BEGIN:VEVENT
DESCRIPTION:\n
UID:040000008200E00074C5B7101A82E00800000000BFA06D185D95DC01000000000000000
 0100000009CD9889C3B2B534A82FE3D8FFC746BA2
SUMMARY:Lunar New Year Welcome Back Event
DTSTART;TZID=Eastern Standard Time:20260205T193000
DTEND;TZID=Eastern Standard Time:20260205T213000
CLASS:PUBLIC
PRIORITY:5
DTSTAMP:20260425T210506Z
TRANSP:OPAQUE
STATUS:CONFIRMED
SEQUENCE:0
LOCATION:TORG 1060
X-MICROSOFT-CDO-APPT-SEQUENCE:0
X-MICROSOFT-CDO-BUSYSTATUS:BUSY
X-MICROSOFT-CDO-INTENDEDSTATUS:BUSY
X-MICROSOFT-CDO-ALLDAYEVENT:FALSE
X-MICROSOFT-CDO-IMPORTANCE:1
X-MICROSOFT-CDO-INSTTYPE:0
X-MICROSOFT-DONOTFORWARDMEETING:FALSE
X-MICROSOFT-DISALLOW-COUNTER:FALSE
X-MICROSOFT-REQUESTEDATTENDANCEMODE:DEFAULT
X-MICROSOFT-ISRESPONSEREQUESTED:FALSE
END:VEVENT
BEGIN:VEVENT
DESCRIPTION:\n
UID:040000008200E00074C5B7101A82E008000000004B0FD0236CA0DC01000000000000000
 0100000005BCF7908DAC4EF40AE186D21A5B62C66
SUMMARY:Altec Event
DTSTART;TZID=Eastern Standard Time:20260218T183000
DTEND;TZID=Eastern Standard Time:20260218T193000
CLASS:PUBLIC
PRIORITY:5
DTSTAMP:20260425T210506Z
TRANSP:OPAQUE
STATUS:CONFIRMED
SEQUENCE:0
LOCATION:NCB110B
X-MICROSOFT-CDO-APPT-SEQUENCE:0
X-MICROSOFT-CDO-BUSYSTATUS:BUSY
X-MICROSOFT-CDO-INTENDEDSTATUS:BUSY
X-MICROSOFT-CDO-ALLDAYEVENT:FALSE
X-MICROSOFT-CDO-IMPORTANCE:1
X-MICROSOFT-CDO-INSTTYPE:0
X-MICROSOFT-DONOTFORWARDMEETING:FALSE
X-MICROSOFT-DISALLOW-COUNTER:FALSE
X-MICROSOFT-REQUESTEDATTENDANCEMODE:DEFAULT
X-MICROSOFT-ISRESPONSEREQUESTED:FALSE
END:VEVENT
BEGIN:VEVENT
DESCRIPTION:\n
UID:040000008200E00074C5B7101A82E0080000000014609726B0A9DC01000000000000000
 0100000002F008FB418AD1042941429FD86AF4224
SUMMARY:SASE Gala
DTSTART;TZID=Eastern Standard Time:20260301T180000
DTEND;TZID=Eastern Standard Time:20260301T200000
CLASS:PUBLIC
PRIORITY:5
DTSTAMP:20260425T210506Z
TRANSP:OPAQUE
STATUS:CONFIRMED
SEQUENCE:0
LOCATION:Squires Commonwealth B
X-MICROSOFT-CDO-APPT-SEQUENCE:0
X-MICROSOFT-CDO-BUSYSTATUS:BUSY
X-MICROSOFT-CDO-INTENDEDSTATUS:BUSY
X-MICROSOFT-CDO-ALLDAYEVENT:FALSE
X-MICROSOFT-CDO-IMPORTANCE:1
X-MICROSOFT-CDO-INSTTYPE:0
X-MICROSOFT-DONOTFORWARDMEETING:FALSE
X-MICROSOFT-DISALLOW-COUNTER:FALSE
X-MICROSOFT-REQUESTEDATTENDANCEMODE:DEFAULT
X-MICROSOFT-ISRESPONSEREQUESTED:FALSE
END:VEVENT
BEGIN:VEVENT
DESCRIPTION:\n
UID:040000008200E00074C5B7101A82E0080000000065D4362B79C4DC01000000000000000
 01000000060CA220E1E9DFA44BCD74B97489DC3AD
SUMMARY:𝗦𝗹𝗶𝗺𝗲 𝗡𝗶𝗴𝗵𝘁
DTSTART;TZID=Eastern Standard Time:20260406T180000
DTEND;TZID=Eastern Standard Time:20260406T200000
CLASS:PUBLIC
PRIORITY:5
DTSTAMP:20260425T210506Z
TRANSP:OPAQUE
STATUS:CONFIRMED
SEQUENCE:0
LOCATION:Pamplin Hall 3004
X-MICROSOFT-CDO-APPT-SEQUENCE:0
X-MICROSOFT-CDO-BUSYSTATUS:BUSY
X-MICROSOFT-CDO-INTENDEDSTATUS:BUSY
X-MICROSOFT-CDO-ALLDAYEVENT:FALSE
X-MICROSOFT-CDO-IMPORTANCE:1
X-MICROSOFT-CDO-INSTTYPE:0
X-MICROSOFT-DONOTFORWARDMEETING:FALSE
X-MICROSOFT-DISALLOW-COUNTER:FALSE
X-MICROSOFT-REQUESTEDATTENDANCEMODE:DEFAULT
X-MICROSOFT-ISRESPONSEREQUESTED:FALSE
END:VEVENT
BEGIN:VEVENT
DESCRIPTION:\n
UID:040000008200E00074C5B7101A82E008000000000B0677BF79C4DC01000000000000000
 0100000004FA97CEDAF7B0145B682AAE60378247B
SUMMARY:𝗝𝗲𝗼𝗽𝗮𝗿𝗱𝘆‑𝗦𝘁𝘆𝗹𝗲 𝗧𝗿
 𝗶𝘃𝗶𝗮 + 𝗚𝗮𝗺𝗲 𝗡𝗶𝗴𝗵𝘁
DTSTART;TZID=Eastern Standard Time:20260407T190000
DTEND;TZID=Eastern Standard Time:20260407T210000
CLASS:PUBLIC
PRIORITY:5
DTSTAMP:20260425T210506Z
TRANSP:OPAQUE
STATUS:CONFIRMED
SEQUENCE:0
LOCATION:TORG 1060
X-MICROSOFT-CDO-APPT-SEQUENCE:0
X-MICROSOFT-CDO-BUSYSTATUS:BUSY
X-MICROSOFT-CDO-INTENDEDSTATUS:BUSY
X-MICROSOFT-CDO-ALLDAYEVENT:FALSE
X-MICROSOFT-CDO-IMPORTANCE:1
X-MICROSOFT-CDO-INSTTYPE:0
X-MICROSOFT-DONOTFORWARDMEETING:FALSE
X-MICROSOFT-DISALLOW-COUNTER:FALSE
X-MICROSOFT-REQUESTEDATTENDANCEMODE:DEFAULT
X-MICROSOFT-ISRESPONSEREQUESTED:FALSE
END:VEVENT
BEGIN:VEVENT
DESCRIPTION:\n
UID:040000008200E00074C5B7101A82E00800000000057A434379C4DC01000000000000000
 010000000F719273055BECE4093A8673844085AAD
SUMMARY:𝗦𝘁𝗶𝗰𝗸𝗲𝗿 𝗖𝗼𝗹𝗹𝗮𝗴𝗲 𝗡𝗶
 𝗴𝗵𝘁
DTSTART;TZID=Eastern Standard Time:20260408T180000
DTEND;TZID=Eastern Standard Time:20260408T200000
CLASS:PUBLIC
PRIORITY:5
DTSTAMP:20260425T210506Z
TRANSP:OPAQUE
STATUS:CONFIRMED
SEQUENCE:0
LOCATION:Robeson Hall 105
X-MICROSOFT-CDO-APPT-SEQUENCE:0
X-MICROSOFT-CDO-BUSYSTATUS:BUSY
X-MICROSOFT-CDO-INTENDEDSTATUS:BUSY
X-MICROSOFT-CDO-ALLDAYEVENT:FALSE
X-MICROSOFT-CDO-IMPORTANCE:1
X-MICROSOFT-CDO-INSTTYPE:0
X-MICROSOFT-DONOTFORWARDMEETING:FALSE
X-MICROSOFT-DISALLOW-COUNTER:FALSE
X-MICROSOFT-REQUESTEDATTENDANCEMODE:DEFAULT
X-MICROSOFT-ISRESPONSEREQUESTED:FALSE
END:VEVENT
BEGIN:VEVENT
DESCRIPTION:\n
UID:040000008200E00074C5B7101A82E008000000007AF70C5979C4DC01000000000000000
 01000000058D7B3505CDF9F4986C8527FFA47F088
SUMMARY:𝗚𝗕𝗠
DTSTART;TZID=Eastern Standard Time:20260409T180000
DTEND;TZID=Eastern Standard Time:20260409T200000
CLASS:PUBLIC
PRIORITY:5
DTSTAMP:20260425T210506Z
TRANSP:OPAQUE
STATUS:CONFIRMED
SEQUENCE:0
LOCATION:Hitt 338
X-MICROSOFT-CDO-APPT-SEQUENCE:0
X-MICROSOFT-CDO-BUSYSTATUS:BUSY
X-MICROSOFT-CDO-INTENDEDSTATUS:BUSY
X-MICROSOFT-CDO-ALLDAYEVENT:FALSE
X-MICROSOFT-CDO-IMPORTANCE:1
X-MICROSOFT-CDO-INSTTYPE:0
X-MICROSOFT-DONOTFORWARDMEETING:FALSE
X-MICROSOFT-DISALLOW-COUNTER:FALSE
X-MICROSOFT-REQUESTEDATTENDANCEMODE:DEFAULT
X-MICROSOFT-ISRESPONSEREQUESTED:FALSE
END:VEVENT
BEGIN:VEVENT
DESCRIPTION:\n
UID:040000008200E00074C5B7101A82E00800000000A6D0AAAC79C4DC01000000000000000
 0100000006F5380F8ABB2D046876F17F200D2B556
SUMMARY:𝗣𝗵𝗼𝘁𝗼 𝗙𝗿𝗮𝗺𝗲 𝗗𝗲𝗰𝗼𝗿𝗮
 𝘁𝗶𝗻𝗴
DTSTART;TZID=Eastern Standard Time:20260410T180000
DTEND;TZID=Eastern Standard Time:20260410T200000
CLASS:PUBLIC
PRIORITY:5
DTSTAMP:20260425T210506Z
TRANSP:OPAQUE
STATUS:CONFIRMED
SEQUENCE:0
LOCATION:DDS 180
X-MICROSOFT-CDO-APPT-SEQUENCE:0
X-MICROSOFT-CDO-BUSYSTATUS:BUSY
X-MICROSOFT-CDO-INTENDEDSTATUS:BUSY
X-MICROSOFT-CDO-ALLDAYEVENT:FALSE
X-MICROSOFT-CDO-IMPORTANCE:1
X-MICROSOFT-CDO-INSTTYPE:0
X-MICROSOFT-DONOTFORWARDMEETING:FALSE
X-MICROSOFT-DISALLOW-COUNTER:FALSE
X-MICROSOFT-REQUESTEDATTENDANCEMODE:DEFAULT
X-MICROSOFT-ISRESPONSEREQUESTED:FALSE
END:VEVENT
END:VCALENDAR
