BEGIN:VCALENDAR
METHOD:PUBLISH
PRODID:Microsoft Exchange Server 2010
VERSION:2.0
X-WR-CALNAME:Public
BEGIN:VTIMEZONE
TZID:Singapore Standard Time
BEGIN:STANDARD
DTSTART:16010101T000000
TZOFFSETFROM:+0800
TZOFFSETTO:+0800
END:STANDARD
BEGIN:DAYLIGHT
DTSTART:16010101T000000
TZOFFSETFROM:+0800
TZOFFSETTO:+0800
END:DAYLIGHT
END:VTIMEZONE
BEGIN:VEVENT
DESCRIPTION:\n
RRULE:FREQ=WEEKLY;UNTIL=20260312T131500Z;INTERVAL=1;BYDAY=TH;WKST=SU
EXDATE;TZID=Singapore Standard Time:20260212T211500,20260219T211500
UID:040000008200E00074C5B7101A82E00800000000407450A275A8DC01000000000000000
 0100000006F7FA4B1A3FA624393253F2AAB722561
SUMMARY:Speaking Cafe @ MS Teams
DTSTART;TZID=Singapore Standard Time:20260115T211500
DTEND;TZID=Singapore Standard Time:20260115T223000
CLASS:PUBLIC
PRIORITY:5
DTSTAMP:20260422T161612Z
TRANSP:OPAQUE
STATUS:CONFIRMED
SEQUENCE:0
LOCATION:
X-MICROSOFT-CDO-APPT-SEQUENCE:0
X-MICROSOFT-CDO-BUSYSTATUS:BUSY
X-MICROSOFT-CDO-INTENDEDSTATUS:BUSY
X-MICROSOFT-CDO-ALLDAYEVENT:FALSE
X-MICROSOFT-CDO-IMPORTANCE:1
X-MICROSOFT-CDO-INSTTYPE:1
X-MICROSOFT-DONOTFORWARDMEETING:FALSE
X-MICROSOFT-DISALLOW-COUNTER:FALSE
X-MICROSOFT-REQUESTEDATTENDANCEMODE:DEFAULT
X-MICROSOFT-ISRESPONSEREQUESTED:FALSE
END:VEVENT
BEGIN:VEVENT
DESCRIPTION:\n
UID:040000008200E00074C5B7101A82E00800000000407450A275A8DC01000000000000000
 0100000006F7FA4B1A3FA624393253F2AAB722561
RECURRENCE-ID;TZID=Singapore Standard Time:20260305T211500
SUMMARY:Speaking Cafe @ MS Teams
DTSTART;TZID=Singapore Standard Time:20260305T214500
DTEND;TZID=Singapore Standard Time:20260305T230000
CLASS:PUBLIC
PRIORITY:5
DTSTAMP:20260422T161612Z
TRANSP:OPAQUE
STATUS:CONFIRMED
SEQUENCE:0
LOCATION:
X-MICROSOFT-CDO-APPT-SEQUENCE:0
X-MICROSOFT-CDO-BUSYSTATUS:BUSY
X-MICROSOFT-CDO-INTENDEDSTATUS:BUSY
X-MICROSOFT-CDO-ALLDAYEVENT:FALSE
X-MICROSOFT-CDO-IMPORTANCE:1
X-MICROSOFT-CDO-INSTTYPE:3
X-MICROSOFT-DONOTFORWARDMEETING:FALSE
X-MICROSOFT-DISALLOW-COUNTER:FALSE
X-MICROSOFT-REQUESTEDATTENDANCEMODE:DEFAULT
X-MICROSOFT-ISRESPONSEREQUESTED:FALSE
END:VEVENT
BEGIN:VEVENT
DESCRIPTION:\n
RRULE:FREQ=WEEKLY;UNTIL=20260630T100000Z;INTERVAL=1;BYDAY=TU;WKST=SU
UID:040000008200E00074C5B7101A82E008000000000CCD721F78A8DC01000000000000000
 01000000027FD18F938C8594598B505E2E963E085
SUMMARY:Advanced Grammar @ TikTok LIVE
DTSTART;TZID=Singapore Standard Time:20260310T180000
DTEND;TZID=Singapore Standard Time:20260310T190000
CLASS:PUBLIC
PRIORITY:5
DTSTAMP:20260422T161612Z
TRANSP:OPAQUE
STATUS:CONFIRMED
SEQUENCE:0
LOCATION:
X-MICROSOFT-CDO-APPT-SEQUENCE:0
X-MICROSOFT-CDO-BUSYSTATUS:BUSY
X-MICROSOFT-CDO-INTENDEDSTATUS:BUSY
X-MICROSOFT-CDO-ALLDAYEVENT:FALSE
X-MICROSOFT-CDO-IMPORTANCE:1
X-MICROSOFT-CDO-INSTTYPE:1
X-MICROSOFT-DONOTFORWARDMEETING:FALSE
X-MICROSOFT-DISALLOW-COUNTER:FALSE
X-MICROSOFT-REQUESTEDATTENDANCEMODE:DEFAULT
X-MICROSOFT-ISRESPONSEREQUESTED:FALSE
END:VEVENT
BEGIN:VEVENT
DESCRIPTION:\n
UID:040000008200E00074C5B7101A82E00800000000407450A275A8DC01000000000000000
 0100000006F7FA4B1A3FA624393253F2AAB722561
RECURRENCE-ID;TZID=Singapore Standard Time:20260312T211500
SUMMARY:Speaking Cafe @ MS Teams
DTSTART;TZID=Singapore Standard Time:20260312T214500
DTEND;TZID=Singapore Standard Time:20260312T230000
CLASS:PUBLIC
PRIORITY:5
DTSTAMP:20260422T161612Z
TRANSP:OPAQUE
STATUS:CONFIRMED
SEQUENCE:0
LOCATION:
X-MICROSOFT-CDO-APPT-SEQUENCE:0
X-MICROSOFT-CDO-BUSYSTATUS:BUSY
X-MICROSOFT-CDO-INTENDEDSTATUS:BUSY
X-MICROSOFT-CDO-ALLDAYEVENT:FALSE
X-MICROSOFT-CDO-IMPORTANCE:1
X-MICROSOFT-CDO-INSTTYPE:3
X-MICROSOFT-DONOTFORWARDMEETING:FALSE
X-MICROSOFT-DISALLOW-COUNTER:FALSE
X-MICROSOFT-REQUESTEDATTENDANCEMODE:DEFAULT
X-MICROSOFT-ISRESPONSEREQUESTED:FALSE
END:VEVENT
BEGIN:VEVENT
DESCRIPTION:\n
RRULE:FREQ=WEEKLY;UNTIL=20260626T120000Z;INTERVAL=1;BYDAY=FR;WKST=SU
UID:040000008200E00074C5B7101A82E00800000000F132820FBDA8DC01000000000000000
 010000000B78471B2A15B564EA055BB03062A67A7
SUMMARY:Reflective Reading @ TikTok LIVE
DTSTART;TZID=Singapore Standard Time:20260327T200000
DTEND;TZID=Singapore Standard Time:20260327T210000
CLASS:PUBLIC
PRIORITY:5
DTSTAMP:20260422T161612Z
TRANSP:OPAQUE
STATUS:CONFIRMED
SEQUENCE:0
LOCATION:
X-MICROSOFT-CDO-APPT-SEQUENCE:0
X-MICROSOFT-CDO-BUSYSTATUS:BUSY
X-MICROSOFT-CDO-INTENDEDSTATUS:BUSY
X-MICROSOFT-CDO-ALLDAYEVENT:FALSE
X-MICROSOFT-CDO-IMPORTANCE:1
X-MICROSOFT-CDO-INSTTYPE:1
X-MICROSOFT-DONOTFORWARDMEETING:FALSE
X-MICROSOFT-DISALLOW-COUNTER:FALSE
X-MICROSOFT-REQUESTEDATTENDANCEMODE:DEFAULT
X-MICROSOFT-ISRESPONSEREQUESTED:FALSE
END:VEVENT
BEGIN:VEVENT
DESCRIPTION:\n_____________________________________________________________
 ___________________\nMicrosoft Teams meeting\nJoin: https://teams.microsof
 t.com/meet/3960262418580?p=SBxScoOfdfaK2Ucvro\nMeeting ID: 396 026 241 858
  0\nPasscode: aj3yC6Bt\n________________________________\nNeed help?<https
 ://aka.ms/JoinTeamsMeeting?omkt=en-MY> | System reference<https://teams.mi
 crosoft.com/l/meetup-join/19%3ameeting_NjU0YTI1NGEtNTViNS00YWY5LTg2YjEtMmI
 0MTNmYjM1MGM4%40thread.v2/0?context=%7b%22Tid%22%3a%224e8d09f7-cc79-4ccb-9
 149-a4238dd17422%22%2c%22Oid%22%3a%228e283dc1-de73-4e76-b454-9f15142dc341%
 22%7d>\nFor organizers: Meeting options<https://teams.microsoft.com/meetin
 gOptions/?organizerId=8e283dc1-de73-4e76-b454-9f15142dc341&tenantId=4e8d09
 f7-cc79-4ccb-9149-a4238dd17422&threadId=19_meeting_NjU0YTI1NGEtNTViNS00YWY
 5LTg2YjEtMmI0MTNmYjM1MGM4@thread.v2&messageId=0&language=en-MY>\n_________
 _______________________________________________________________________\n
RRULE:FREQ=WEEKLY;UNTIL=20260625T131500Z;INTERVAL=1;BYDAY=TH;WKST=SU
EXDATE;TZID=Singapore Standard Time:20260423T211500,20260507T211500
UID:040000008200E00074C5B7101A82E00800000000ABF26F1D0BAFDC01000000000000000
 0100000009A2D055412065C4CA8BE527D3426778C
SUMMARY:Speaking Cafe @ MS Teams
DTSTART;TZID=Singapore Standard Time:20260402T211500
DTEND;TZID=Singapore Standard Time:20260402T223000
CLASS:PUBLIC
PRIORITY:5
DTSTAMP:20260422T161612Z
TRANSP:OPAQUE
STATUS:CONFIRMED
SEQUENCE:3
LOCATION:Microsoft Teams Meeting\; https://tinyurl.com/speakcafe2026
X-MICROSOFT-CDO-APPT-SEQUENCE:3
X-MICROSOFT-CDO-BUSYSTATUS:BUSY
X-MICROSOFT-CDO-INTENDEDSTATUS:BUSY
X-MICROSOFT-CDO-ALLDAYEVENT:FALSE
X-MICROSOFT-CDO-IMPORTANCE:1
X-MICROSOFT-CDO-INSTTYPE:1
X-MICROSOFT-DONOTFORWARDMEETING:FALSE
X-MICROSOFT-DISALLOW-COUNTER:FALSE
X-MICROSOFT-REQUESTEDATTENDANCEMODE:DEFAULT
X-MICROSOFT-ISRESPONSEREQUESTED:FALSE
END:VEVENT
END:VCALENDAR
