BEGIN:VCALENDAR
METHOD:PUBLISH
PRODID:Microsoft Exchange Server 2010
VERSION:2.0
X-WR-CALNAME:Calendar
BEGIN:VTIMEZONE
TZID:Central Standard Time
BEGIN:STANDARD
DTSTART:16010101T020000
TZOFFSETFROM:-0500
TZOFFSETTO:-0600
RRULE:FREQ=YEARLY;INTERVAL=1;BYDAY=1SU;BYMONTH=11
END:STANDARD
BEGIN:DAYLIGHT
DTSTART:16010101T020000
TZOFFSETFROM:-0600
TZOFFSETTO:-0500
RRULE:FREQ=YEARLY;INTERVAL=1;BYDAY=2SU;BYMONTH=3
END:DAYLIGHT
END:VTIMEZONE
BEGIN:VEVENT
DESCRIPTION:\n
UID:040000008200E00074C5B7101A82E00800000000C09637C4F499DC01000000000000000
 010000000DA0BC5DE85423E4583A18BE6A6AAE021
SUMMARY:Leader Lab Leadership Gathering with Amy Lancaster
DTSTART;TZID=Central Standard Time:20260218T120000
DTEND;TZID=Central Standard Time:20260218T140000
CLASS:PUBLIC
PRIORITY:5
DTSTAMP:20260424T140511Z
TRANSP:OPAQUE
STATUS:CONFIRMED
SEQUENCE:0
LOCATION:236 E Capitol St\, Jackson\, Mississippi\, United States
X-MICROSOFT-CDO-APPT-SEQUENCE:0
X-MICROSOFT-CDO-BUSYSTATUS:BUSY
X-MICROSOFT-CDO-INTENDEDSTATUS:BUSY
X-MICROSOFT-CDO-ALLDAYEVENT:FALSE
X-MICROSOFT-CDO-IMPORTANCE:1
X-MICROSOFT-CDO-INSTTYPE:0
X-MICROSOFT-DONOTFORWARDMEETING:FALSE
X-MICROSOFT-DISALLOW-COUNTER:FALSE
X-MICROSOFT-REQUESTEDATTENDANCEMODE:DEFAULT
X-MICROSOFT-ISRESPONSEREQUESTED:FALSE
END:VEVENT
BEGIN:VEVENT
DESCRIPTION:\n
RRULE:FREQ=WEEKLY;UNTIL=20260310T220000Z;INTERVAL=1;BYDAY=TU;WKST=SU
UID:040000008200E00074C5B7101A82E0080000000061EAB5F992B0DC01000000000000000
 010000000A51588E49F8DAD488ACE7DF5DC944861
SUMMARY:Red Door Jackson Mentoring Night
DTSTART;TZID=Central Standard Time:20260303T170000
DTEND;TZID=Central Standard Time:20260303T190000
CLASS:PUBLIC
PRIORITY:5
DTSTAMP:20260424T140511Z
TRANSP:OPAQUE
STATUS:CONFIRMED
SEQUENCE:0
LOCATION:Fondren Church Community Center
X-MICROSOFT-CDO-APPT-SEQUENCE:0
X-MICROSOFT-CDO-BUSYSTATUS:BUSY
X-MICROSOFT-CDO-INTENDEDSTATUS:BUSY
X-MICROSOFT-CDO-ALLDAYEVENT:FALSE
X-MICROSOFT-CDO-IMPORTANCE:1
X-MICROSOFT-CDO-INSTTYPE:1
X-MICROSOFT-DONOTFORWARDMEETING:FALSE
X-MICROSOFT-DISALLOW-COUNTER:FALSE
X-MICROSOFT-REQUESTEDATTENDANCEMODE:DEFAULT
X-MICROSOFT-ISRESPONSEREQUESTED:FALSE
END:VEVENT
BEGIN:VEVENT
DESCRIPTION:\n
UID:040000008200E00074C5B7101A82E008000000008CC0FE9C6CAADC01000000000000000
 01000000024E13B41C62C4644B1CDEFC469C4A7F3
SUMMARY:United Prayer Gathering
DTSTART;TZID=Central Standard Time:20260304T120000
DTEND;TZID=Central Standard Time:20260304T130000
CLASS:PUBLIC
PRIORITY:5
DTSTAMP:20260424T140511Z
TRANSP:OPAQUE
STATUS:CONFIRMED
SEQUENCE:0
LOCATION:6th Floor\; 236 E Capitol St
X-MICROSOFT-CDO-APPT-SEQUENCE:0
X-MICROSOFT-CDO-BUSYSTATUS:BUSY
X-MICROSOFT-CDO-INTENDEDSTATUS:BUSY
X-MICROSOFT-CDO-ALLDAYEVENT:FALSE
X-MICROSOFT-CDO-IMPORTANCE:1
X-MICROSOFT-CDO-INSTTYPE:0
X-MICROSOFT-DONOTFORWARDMEETING:FALSE
X-MICROSOFT-DISALLOW-COUNTER:FALSE
X-MICROSOFT-REQUESTEDATTENDANCEMODE:DEFAULT
X-MICROSOFT-ISRESPONSEREQUESTED:FALSE
END:VEVENT
BEGIN:VEVENT
DESCRIPTION:\n
UID:040000008200E00074C5B7101A82E00800000000672177B56CAADC01000000000000000
 010000000E7C5FE671A787D4899B509BD66F6DA81
SUMMARY:Grant Me Justice
DTSTART;TZID=Central Standard Time:20260311T090000
DTEND;TZID=Central Standard Time:20260311T120000
CLASS:PUBLIC
PRIORITY:5
DTSTAMP:20260424T140511Z
TRANSP:OPAQUE
STATUS:CONFIRMED
SEQUENCE:0
LOCATION:
X-MICROSOFT-CDO-APPT-SEQUENCE:0
X-MICROSOFT-CDO-BUSYSTATUS:BUSY
X-MICROSOFT-CDO-INTENDEDSTATUS:BUSY
X-MICROSOFT-CDO-ALLDAYEVENT:FALSE
X-MICROSOFT-CDO-IMPORTANCE:1
X-MICROSOFT-CDO-INSTTYPE:0
X-MICROSOFT-DONOTFORWARDMEETING:FALSE
X-MICROSOFT-DISALLOW-COUNTER:FALSE
X-MICROSOFT-REQUESTEDATTENDANCEMODE:DEFAULT
X-MICROSOFT-ISRESPONSEREQUESTED:FALSE
END:VEVENT
BEGIN:VEVENT
DESCRIPTION:\n
RRULE:FREQ=MONTHLY;UNTIL=20260912T140000Z;INTERVAL=1;BYDAY=2SA
UID:040000008200E00074C5B7101A82E008000000000AD02CA56EB5DC01000000000000000
 01000000030ECE5873F9B6B4C9CC0D5EEED388FF9
SUMMARY:Hope Exchange - Art & Soil Community Garden Work Day
DTSTART;TZID=Central Standard Time:20260314T090000
DTEND;TZID=Central Standard Time:20260314T120000
CLASS:PUBLIC
PRIORITY:5
DTSTAMP:20260424T140511Z
TRANSP:OPAQUE
STATUS:CONFIRMED
SEQUENCE:0
LOCATION:Corner of Londonberry Rd. and Robinhood Dr.
X-MICROSOFT-CDO-APPT-SEQUENCE:0
X-MICROSOFT-CDO-BUSYSTATUS:BUSY
X-MICROSOFT-CDO-INTENDEDSTATUS:BUSY
X-MICROSOFT-CDO-ALLDAYEVENT:FALSE
X-MICROSOFT-CDO-IMPORTANCE:1
X-MICROSOFT-CDO-INSTTYPE:1
X-MICROSOFT-DONOTFORWARDMEETING:FALSE
X-MICROSOFT-DISALLOW-COUNTER:FALSE
X-MICROSOFT-REQUESTEDATTENDANCEMODE:DEFAULT
X-MICROSOFT-ISRESPONSEREQUESTED:FALSE
END:VEVENT
BEGIN:VEVENT
DESCRIPTION:\n
RRULE:FREQ=WEEKLY;UNTIL=20260421T220000Z;INTERVAL=1;BYDAY=TU;WKST=SU
EXDATE;TZID=Central Standard Time:20260324T170000,20260331T170000
UID:040000008200E00074C5B7101A82E00800000000A5BFE6736CB5DC01000000000000000
 010000000B302B6C0CDEE1B4AA2C9949B344CAC25
SUMMARY:Red Door Jackson Mentoring Night
DTSTART;TZID=Central Standard Time:20260317T170000
DTEND;TZID=Central Standard Time:20260317T190000
CLASS:PUBLIC
PRIORITY:5
DTSTAMP:20260424T140511Z
TRANSP:OPAQUE
STATUS:CONFIRMED
SEQUENCE:0
LOCATION:Fondren Church Community Center
X-MICROSOFT-CDO-APPT-SEQUENCE:0
X-MICROSOFT-CDO-BUSYSTATUS:BUSY
X-MICROSOFT-CDO-INTENDEDSTATUS:BUSY
X-MICROSOFT-CDO-ALLDAYEVENT:FALSE
X-MICROSOFT-CDO-IMPORTANCE:1
X-MICROSOFT-CDO-INSTTYPE:1
X-MICROSOFT-DONOTFORWARDMEETING:FALSE
X-MICROSOFT-DISALLOW-COUNTER:FALSE
X-MICROSOFT-REQUESTEDATTENDANCEMODE:DEFAULT
X-MICROSOFT-ISRESPONSEREQUESTED:FALSE
END:VEVENT
BEGIN:VEVENT
DESCRIPTION:\n
RRULE:FREQ=WEEKLY;UNTIL=20270420T223000Z;INTERVAL=1;BYDAY=TU;WKST=SU
UID:040000008200E00074C5B7101A82E0080000000047E31DE16DB5DC01000000000000000
 0100000002AA2A62A85ACAC4D976B3FE71F4C5F7E
SUMMARY:Hope Exchange - Love & Purpose Class
DTSTART;TZID=Central Standard Time:20260317T173000
DTEND;TZID=Central Standard Time:20260317T193000
CLASS:PUBLIC
PRIORITY:5
DTSTAMP:20260424T140511Z
TRANSP:OPAQUE
STATUS:CONFIRMED
SEQUENCE:0
LOCATION:Fondren Church
X-MICROSOFT-CDO-APPT-SEQUENCE:0
X-MICROSOFT-CDO-BUSYSTATUS:BUSY
X-MICROSOFT-CDO-INTENDEDSTATUS:BUSY
X-MICROSOFT-CDO-ALLDAYEVENT:FALSE
X-MICROSOFT-CDO-IMPORTANCE:1
X-MICROSOFT-CDO-INSTTYPE:1
X-MICROSOFT-DONOTFORWARDMEETING:FALSE
X-MICROSOFT-DISALLOW-COUNTER:FALSE
X-MICROSOFT-REQUESTEDATTENDANCEMODE:DEFAULT
X-MICROSOFT-ISRESPONSEREQUESTED:FALSE
END:VEVENT
BEGIN:VEVENT
DESCRIPTION:\n
RRULE:FREQ=WEEKLY;UNTIL=20270421T230000Z;INTERVAL=1;BYDAY=WE;WKST=SU
UID:040000008200E00074C5B7101A82E00800000000B4A25B246EB5DC01000000000000000
 010000000B933C9C16F33EB40858BFDEF6AEEDACF
SUMMARY:Hope Exchange - Faith & Finances Class
DTSTART;TZID=Central Standard Time:20260318T180000
DTEND;TZID=Central Standard Time:20260318T193000
CLASS:PUBLIC
PRIORITY:5
DTSTAMP:20260424T140511Z
TRANSP:OPAQUE
STATUS:CONFIRMED
SEQUENCE:0
LOCATION:Redeemer Church\, PCA (640 E Northside Dr\, Jackson\, MS\, United 
 States)
X-MICROSOFT-CDO-APPT-SEQUENCE:0
X-MICROSOFT-CDO-BUSYSTATUS:BUSY
X-MICROSOFT-CDO-INTENDEDSTATUS:BUSY
X-MICROSOFT-CDO-ALLDAYEVENT:FALSE
X-MICROSOFT-CDO-IMPORTANCE:1
X-MICROSOFT-CDO-INSTTYPE:1
X-MICROSOFT-DONOTFORWARDMEETING:FALSE
X-MICROSOFT-DISALLOW-COUNTER:FALSE
X-MICROSOFT-REQUESTEDATTENDANCEMODE:DEFAULT
X-MICROSOFT-ISRESPONSEREQUESTED:FALSE
END:VEVENT
BEGIN:VEVENT
DESCRIPTION:\n
RRULE:FREQ=WEEKLY;UNTIL=20270422T213000Z;INTERVAL=1;BYDAY=TH;WKST=SU
UID:040000008200E00074C5B7101A82E008000000003371404B6EB5DC01000000000000000
 010000000F484368FD2A1724C9F7001C58CF45718
SUMMARY:Hope Exchange - Faith & Finances Class
DTSTART;TZID=Central Standard Time:20260319T163000
DTEND;TZID=Central Standard Time:20260319T180000
CLASS:PUBLIC
PRIORITY:5
DTSTAMP:20260424T140511Z
TRANSP:OPAQUE
STATUS:CONFIRMED
SEQUENCE:0
LOCATION:Sunnybrook Children's Home (222 Sunnybrook Rd\, Ridgeland\, MS\, U
 nited States)
X-MICROSOFT-CDO-APPT-SEQUENCE:0
X-MICROSOFT-CDO-BUSYSTATUS:BUSY
X-MICROSOFT-CDO-INTENDEDSTATUS:BUSY
X-MICROSOFT-CDO-ALLDAYEVENT:FALSE
X-MICROSOFT-CDO-IMPORTANCE:1
X-MICROSOFT-CDO-INSTTYPE:1
X-MICROSOFT-DONOTFORWARDMEETING:FALSE
X-MICROSOFT-DISALLOW-COUNTER:FALSE
X-MICROSOFT-REQUESTEDATTENDANCEMODE:DEFAULT
X-MICROSOFT-ISRESPONSEREQUESTED:FALSE
END:VEVENT
BEGIN:VEVENT
DESCRIPTION:\n
UID:040000008200E00074C5B7101A82E00800000000D1D80BD16CAADC01000000000000000
 0100000006082F404EC15A54584EF77E61D81295C
SUMMARY:Double Dutch
DTSTART;TZID=Central Standard Time:20260319T173000
DTEND;TZID=Central Standard Time:20260319T183000
CLASS:PUBLIC
PRIORITY:5
DTSTAMP:20260424T140511Z
TRANSP:OPAQUE
STATUS:CONFIRMED
SEQUENCE:0
LOCATION:
X-MICROSOFT-CDO-APPT-SEQUENCE:0
X-MICROSOFT-CDO-BUSYSTATUS:BUSY
X-MICROSOFT-CDO-INTENDEDSTATUS:BUSY
X-MICROSOFT-CDO-ALLDAYEVENT:FALSE
X-MICROSOFT-CDO-IMPORTANCE:1
X-MICROSOFT-CDO-INSTTYPE:0
X-MICROSOFT-DONOTFORWARDMEETING:FALSE
X-MICROSOFT-DISALLOW-COUNTER:FALSE
X-MICROSOFT-REQUESTEDATTENDANCEMODE:DEFAULT
X-MICROSOFT-ISRESPONSEREQUESTED:FALSE
END:VEVENT
BEGIN:VEVENT
DESCRIPTION:\n
RRULE:FREQ=WEEKLY;UNTIL=20260323T220000Z;INTERVAL=1;BYDAY=MO;WKST=SU
UID:040000008200E00074C5B7101A82E00800000000724F7C4311B7DC01000000000000000
 010000000765F20D3F12DCB4B88B1BAC2D5440DD9
SUMMARY:Red Door Jackson Mentoring Night
DTSTART;TZID=Central Standard Time:20260323T170000
DTEND;TZID=Central Standard Time:20260323T190000
CLASS:PUBLIC
PRIORITY:5
DTSTAMP:20260424T140511Z
TRANSP:OPAQUE
STATUS:CONFIRMED
SEQUENCE:0
LOCATION:Fondren Church Community Center
X-MICROSOFT-CDO-APPT-SEQUENCE:0
X-MICROSOFT-CDO-BUSYSTATUS:BUSY
X-MICROSOFT-CDO-INTENDEDSTATUS:BUSY
X-MICROSOFT-CDO-ALLDAYEVENT:FALSE
X-MICROSOFT-CDO-IMPORTANCE:1
X-MICROSOFT-CDO-INSTTYPE:1
X-MICROSOFT-DONOTFORWARDMEETING:FALSE
X-MICROSOFT-DISALLOW-COUNTER:FALSE
X-MICROSOFT-REQUESTEDATTENDANCEMODE:DEFAULT
X-MICROSOFT-ISRESPONSEREQUESTED:FALSE
END:VEVENT
BEGIN:VEVENT
DESCRIPTION:\n
UID:040000008200E00074C5B7101A82E00800000000724F7C4311B7DC01000000000000000
 010000000765F20D3F12DCB4B88B1BAC2D5440DD9
RECURRENCE-ID;TZID=Central Standard Time:20260323T170000
SUMMARY:Red Door Jackson Mentoring Night
DTSTART;TZID=Central Standard Time:20260324T170000
DTEND;TZID=Central Standard Time:20260324T190000
CLASS:PUBLIC
PRIORITY:5
DTSTAMP:20260424T140511Z
TRANSP:OPAQUE
STATUS:CONFIRMED
SEQUENCE:0
LOCATION:Fondren Church Community Center
X-MICROSOFT-CDO-APPT-SEQUENCE:0
X-MICROSOFT-CDO-BUSYSTATUS:BUSY
X-MICROSOFT-CDO-INTENDEDSTATUS:BUSY
X-MICROSOFT-CDO-ALLDAYEVENT:FALSE
X-MICROSOFT-CDO-IMPORTANCE:1
X-MICROSOFT-CDO-INSTTYPE:3
X-MICROSOFT-DONOTFORWARDMEETING:FALSE
X-MICROSOFT-DISALLOW-COUNTER:FALSE
X-MICROSOFT-REQUESTEDATTENDANCEMODE:DEFAULT
X-MICROSOFT-ISRESPONSEREQUESTED:FALSE
END:VEVENT
BEGIN:VEVENT
DESCRIPTION:\n
RRULE:FREQ=MONTHLY;UNTIL=20260923T223000Z;INTERVAL=1;BYDAY=4WE
UID:040000008200E00074C5B7101A82E00800000000873F28EB6EB5DC01000000000000000
 01000000054DC5F5F8081DB4E81F208A1728CE621
SUMMARY:Hope Exchange - Art & Soil Community Garden Work Day
DTSTART;TZID=Central Standard Time:20260325T173000
DTEND;TZID=Central Standard Time:20260325T190000
CLASS:PUBLIC
PRIORITY:5
DTSTAMP:20260424T140511Z
TRANSP:OPAQUE
STATUS:CONFIRMED
SEQUENCE:0
LOCATION:Corner of Londonberry Rd. and Robinhood Dr.
X-MICROSOFT-CDO-APPT-SEQUENCE:0
X-MICROSOFT-CDO-BUSYSTATUS:BUSY
X-MICROSOFT-CDO-INTENDEDSTATUS:BUSY
X-MICROSOFT-CDO-ALLDAYEVENT:FALSE
X-MICROSOFT-CDO-IMPORTANCE:1
X-MICROSOFT-CDO-INSTTYPE:1
X-MICROSOFT-DONOTFORWARDMEETING:FALSE
X-MICROSOFT-DISALLOW-COUNTER:FALSE
X-MICROSOFT-REQUESTEDATTENDANCEMODE:DEFAULT
X-MICROSOFT-ISRESPONSEREQUESTED:FALSE
END:VEVENT
BEGIN:VEVENT
DESCRIPTION:\n
UID:040000008200E00074C5B7101A82E00800000000B3026A116DAADC01000000000000000
 010000000A046A9FEB3FA8E49B063037ACE889ED5
SUMMARY:Double Dutch
DTSTART;TZID=Central Standard Time:20260326T173000
DTEND;TZID=Central Standard Time:20260326T183000
CLASS:PUBLIC
PRIORITY:5
DTSTAMP:20260424T140511Z
TRANSP:OPAQUE
STATUS:CONFIRMED
SEQUENCE:0
LOCATION:
X-MICROSOFT-CDO-APPT-SEQUENCE:0
X-MICROSOFT-CDO-BUSYSTATUS:BUSY
X-MICROSOFT-CDO-INTENDEDSTATUS:BUSY
X-MICROSOFT-CDO-ALLDAYEVENT:FALSE
X-MICROSOFT-CDO-IMPORTANCE:1
X-MICROSOFT-CDO-INSTTYPE:0
X-MICROSOFT-DONOTFORWARDMEETING:FALSE
X-MICROSOFT-DISALLOW-COUNTER:FALSE
X-MICROSOFT-REQUESTEDATTENDANCEMODE:DEFAULT
X-MICROSOFT-ISRESPONSEREQUESTED:FALSE
END:VEVENT
BEGIN:VEVENT
DESCRIPTION:\n
RRULE:FREQ=MONTHLY;UNTIL=20270407T170000Z;INTERVAL=1;BYDAY=1WE
UID:040000008200E00074C5B7101A82E00800000000FBFA97D76CB5DC01000000000000000
 010000000540EC6CC6E42B44EB018D7BD17AB0BEE
SUMMARY:United Prayer Gathering
DTSTART;TZID=Central Standard Time:20260401T120000
DTEND;TZID=Central Standard Time:20260401T130000
CLASS:PUBLIC
PRIORITY:5
DTSTAMP:20260424T140511Z
TRANSP:OPAQUE
STATUS:CONFIRMED
SEQUENCE:0
LOCATION:236 E Capitol St\; 6th floor
X-MICROSOFT-CDO-APPT-SEQUENCE:0
X-MICROSOFT-CDO-BUSYSTATUS:BUSY
X-MICROSOFT-CDO-INTENDEDSTATUS:BUSY
X-MICROSOFT-CDO-ALLDAYEVENT:FALSE
X-MICROSOFT-CDO-IMPORTANCE:1
X-MICROSOFT-CDO-INSTTYPE:1
X-MICROSOFT-DONOTFORWARDMEETING:FALSE
X-MICROSOFT-DISALLOW-COUNTER:FALSE
X-MICROSOFT-REQUESTEDATTENDANCEMODE:DEFAULT
X-MICROSOFT-ISRESPONSEREQUESTED:FALSE
END:VEVENT
BEGIN:VEVENT
DESCRIPTION:\n
UID:040000008200E00074C5B7101A82E0080000000013AA226C7DCBDC01000000000000000
 0100000009E584D3EFD9D4E4E82AEA841E5C9CE6B
SUMMARY:CASA of Hinds County Meeting
DTSTART;TZID=Central Standard Time:20260416T100000
DTEND;TZID=Central Standard Time:20260416T123000
CLASS:PUBLIC
PRIORITY:5
DTSTAMP:20260424T140511Z
TRANSP:OPAQUE
STATUS:CONFIRMED
SEQUENCE:0
LOCATION:23:6 Place - Atrium/Main Floor
X-MICROSOFT-CDO-APPT-SEQUENCE:0
X-MICROSOFT-CDO-BUSYSTATUS:BUSY
X-MICROSOFT-CDO-INTENDEDSTATUS:BUSY
X-MICROSOFT-CDO-ALLDAYEVENT:FALSE
X-MICROSOFT-CDO-IMPORTANCE:1
X-MICROSOFT-CDO-INSTTYPE:0
X-MICROSOFT-DONOTFORWARDMEETING:FALSE
X-MICROSOFT-DISALLOW-COUNTER:FALSE
X-MICROSOFT-REQUESTEDATTENDANCEMODE:DEFAULT
X-MICROSOFT-ISRESPONSEREQUESTED:FALSE
END:VEVENT
BEGIN:VEVENT
DESCRIPTION:\n
UID:040000008200E00074C5B7101A82E00800000000B10DAD816DB5DC01000000000000000
 0100000007A7B1F4176ECD44FB9F0CD57FEA3AC61
SUMMARY:Red Door Jackson - End of Year Party
DTSTART;TZID=Central Standard Time:20260428T173000
DTEND;TZID=Central Standard Time:20260428T190000
CLASS:PUBLIC
PRIORITY:5
DTSTAMP:20260424T140511Z
TRANSP:OPAQUE
STATUS:CONFIRMED
SEQUENCE:0
LOCATION:Fondren Church\; Community Center
X-MICROSOFT-CDO-APPT-SEQUENCE:0
X-MICROSOFT-CDO-BUSYSTATUS:BUSY
X-MICROSOFT-CDO-INTENDEDSTATUS:BUSY
X-MICROSOFT-CDO-ALLDAYEVENT:FALSE
X-MICROSOFT-CDO-IMPORTANCE:1
X-MICROSOFT-CDO-INSTTYPE:0
X-MICROSOFT-DONOTFORWARDMEETING:FALSE
X-MICROSOFT-DISALLOW-COUNTER:FALSE
X-MICROSOFT-REQUESTEDATTENDANCEMODE:DEFAULT
X-MICROSOFT-ISRESPONSEREQUESTED:FALSE
END:VEVENT
BEGIN:VEVENT
DESCRIPTION:\n
UID:040000008200E00074C5B7101A82E0080000000046DB805A6DAADC01000000000000000
 01000000045BFDE1AF37EDB49A9410A078739AA6D
SUMMARY:Hope Exchange
DTSTART;TZID=Central Standard Time:20260506T170000
DTEND;TZID=Central Standard Time:20260506T200000
CLASS:PUBLIC
PRIORITY:5
DTSTAMP:20260424T140511Z
TRANSP:OPAQUE
STATUS:CONFIRMED
SEQUENCE:0
LOCATION:
X-MICROSOFT-CDO-APPT-SEQUENCE:0
X-MICROSOFT-CDO-BUSYSTATUS:BUSY
X-MICROSOFT-CDO-INTENDEDSTATUS:BUSY
X-MICROSOFT-CDO-ALLDAYEVENT:FALSE
X-MICROSOFT-CDO-IMPORTANCE:1
X-MICROSOFT-CDO-INSTTYPE:0
X-MICROSOFT-DONOTFORWARDMEETING:FALSE
X-MICROSOFT-DISALLOW-COUNTER:FALSE
X-MICROSOFT-REQUESTEDATTENDANCEMODE:DEFAULT
X-MICROSOFT-ISRESPONSEREQUESTED:FALSE
END:VEVENT
BEGIN:VEVENT
DESCRIPTION:\n
UID:040000008200E00074C5B7101A82E008000000002E4CCAB16DAADC01000000000000000
 010000000BA0BCD9E21B6EA448CBF5163E0B23546
SUMMARY:Grant Me Justice "Mother's Day Brunch"
DTSTART;VALUE=DATE:20260509
DTEND;VALUE=DATE:20260510
CLASS:PUBLIC
PRIORITY:5
DTSTAMP:20260424T140511Z
TRANSP:TRANSPARENT
STATUS:CONFIRMED
SEQUENCE:0
LOCATION:
X-MICROSOFT-CDO-APPT-SEQUENCE:0
X-MICROSOFT-CDO-BUSYSTATUS:FREE
X-MICROSOFT-CDO-INTENDEDSTATUS:BUSY
X-MICROSOFT-CDO-ALLDAYEVENT:TRUE
X-MICROSOFT-CDO-IMPORTANCE:1
X-MICROSOFT-CDO-INSTTYPE:0
X-MICROSOFT-DONOTFORWARDMEETING:FALSE
X-MICROSOFT-DISALLOW-COUNTER:FALSE
X-MICROSOFT-REQUESTEDATTENDANCEMODE:DEFAULT
X-MICROSOFT-ISRESPONSEREQUESTED:FALSE
END:VEVENT
BEGIN:VEVENT
DESCRIPTION:\n
UID:040000008200E00074C5B7101A82E00800000000808981776DAADC01000000000000000
 010000000CF36982CFC3C6D40BD58AC8CEB5CEC69
SUMMARY:Leader Lab with Scott Fortenberry
DTSTART;TZID=Central Standard Time:20260513T120000
DTEND;TZID=Central Standard Time:20260513T140000
CLASS:PUBLIC
PRIORITY:5
DTSTAMP:20260424T140511Z
TRANSP:OPAQUE
STATUS:CONFIRMED
SEQUENCE:0
LOCATION:
X-MICROSOFT-CDO-APPT-SEQUENCE:0
X-MICROSOFT-CDO-BUSYSTATUS:BUSY
X-MICROSOFT-CDO-INTENDEDSTATUS:BUSY
X-MICROSOFT-CDO-ALLDAYEVENT:FALSE
X-MICROSOFT-CDO-IMPORTANCE:1
X-MICROSOFT-CDO-INSTTYPE:0
X-MICROSOFT-DONOTFORWARDMEETING:FALSE
X-MICROSOFT-DISALLOW-COUNTER:FALSE
X-MICROSOFT-REQUESTEDATTENDANCEMODE:DEFAULT
X-MICROSOFT-ISRESPONSEREQUESTED:FALSE
END:VEVENT
BEGIN:VEVENT
DESCRIPTION:\n
UID:040000008200E00074C5B7101A82E00800000000A44C810C3CC1DC01000000000000000
 010000000A63E6D22C841B747B47B12872433F0B5
SUMMARY:Leader Lab Gathering with / Scott Fortenberry
DTSTART;TZID=Central Standard Time:20260513T120000
DTEND;TZID=Central Standard Time:20260513T140000
CLASS:PUBLIC
PRIORITY:5
DTSTAMP:20260424T140511Z
TRANSP:OPAQUE
STATUS:CONFIRMED
SEQUENCE:0
LOCATION:236 E Capitol St\, Jackson\, Mississippi\, United States
X-MICROSOFT-CDO-APPT-SEQUENCE:0
X-MICROSOFT-CDO-BUSYSTATUS:BUSY
X-MICROSOFT-CDO-INTENDEDSTATUS:BUSY
X-MICROSOFT-CDO-ALLDAYEVENT:FALSE
X-MICROSOFT-CDO-IMPORTANCE:1
X-MICROSOFT-CDO-INSTTYPE:0
X-MICROSOFT-DONOTFORWARDMEETING:FALSE
X-MICROSOFT-DISALLOW-COUNTER:FALSE
X-MICROSOFT-REQUESTEDATTENDANCEMODE:DEFAULT
X-MICROSOFT-ISRESPONSEREQUESTED:FALSE
END:VEVENT
BEGIN:VEVENT
DESCRIPTION:\n
UID:040000008200E00074C5B7101A82E008000000003B5F099B6DB5DC01000000000000000
 01000000017DF245BDD75A045A842AD7F3A5629A8
SUMMARY:Red Door Jackson - Fishing Day
DTSTART;TZID=Central Standard Time:20260516T100000
DTEND;TZID=Central Standard Time:20260516T130000
CLASS:PUBLIC
PRIORITY:5
DTSTAMP:20260424T140511Z
TRANSP:OPAQUE
STATUS:CONFIRMED
SEQUENCE:0
LOCATION:LeFleur's Bluff State Park Mayes Lake (3315 Lakeland Terrace\, Jac
 kson\, MS\, United States)
X-MICROSOFT-CDO-APPT-SEQUENCE:0
X-MICROSOFT-CDO-BUSYSTATUS:BUSY
X-MICROSOFT-CDO-INTENDEDSTATUS:BUSY
X-MICROSOFT-CDO-ALLDAYEVENT:FALSE
X-MICROSOFT-CDO-IMPORTANCE:1
X-MICROSOFT-CDO-INSTTYPE:0
X-MICROSOFT-DONOTFORWARDMEETING:FALSE
X-MICROSOFT-DISALLOW-COUNTER:FALSE
X-MICROSOFT-REQUESTEDATTENDANCEMODE:DEFAULT
X-MICROSOFT-ISRESPONSEREQUESTED:FALSE
END:VEVENT
BEGIN:VEVENT
DESCRIPTION:\n
UID:040000008200E00074C5B7101A82E00800000000C751CC996FB5DC01000000000000000
 010000000392B24AEBB9B244A8BC5FC9E853AB645
SUMMARY: Women's Brunch
DTSTART;TZID=Central Standard Time:20260905T080000
DTEND;TZID=Central Standard Time:20260905T160000
CLASS:PUBLIC
PRIORITY:5
DTSTAMP:20260424T140511Z
TRANSP:OPAQUE
STATUS:CONFIRMED
SEQUENCE:0
LOCATION:236 E Capitol St\, Jackson\, Mississippi\, United States
X-MICROSOFT-CDO-APPT-SEQUENCE:0
X-MICROSOFT-CDO-BUSYSTATUS:BUSY
X-MICROSOFT-CDO-INTENDEDSTATUS:BUSY
X-MICROSOFT-CDO-ALLDAYEVENT:FALSE
X-MICROSOFT-CDO-IMPORTANCE:1
X-MICROSOFT-CDO-INSTTYPE:0
X-MICROSOFT-DONOTFORWARDMEETING:FALSE
X-MICROSOFT-DISALLOW-COUNTER:FALSE
X-MICROSOFT-REQUESTEDATTENDANCEMODE:DEFAULT
X-MICROSOFT-ISRESPONSEREQUESTED:FALSE
END:VEVENT
BEGIN:VEVENT
DESCRIPTION:\n
UID:040000008200E00074C5B7101A82E00800000000BFEFECE7F499DC01000000000000000
 010000000A1CDCB0F3DBE5948B6C7527DB0668AC0
SUMMARY:Red Door Jackson Golf Classic
DTSTART;TZID=Central Standard Time:20261014T110000
DTEND;TZID=Central Standard Time:20261014T160000
CLASS:PUBLIC
PRIORITY:5
DTSTAMP:20260424T140511Z
TRANSP:OPAQUE
STATUS:CONFIRMED
SEQUENCE:0
LOCATION:Lake Caroline Golf Club (118 Caroline Club Cir\, Madison\, MS\, Un
 ited States)
X-MICROSOFT-CDO-APPT-SEQUENCE:0
X-MICROSOFT-CDO-BUSYSTATUS:BUSY
X-MICROSOFT-CDO-INTENDEDSTATUS:BUSY
X-MICROSOFT-CDO-ALLDAYEVENT:FALSE
X-MICROSOFT-CDO-IMPORTANCE:1
X-MICROSOFT-CDO-INSTTYPE:0
X-MICROSOFT-DONOTFORWARDMEETING:FALSE
X-MICROSOFT-DISALLOW-COUNTER:FALSE
X-MICROSOFT-REQUESTEDATTENDANCEMODE:DEFAULT
X-MICROSOFT-ISRESPONSEREQUESTED:FALSE
END:VEVENT
END:VCALENDAR
