BEGIN:VCALENDAR
METHOD:PUBLISH
PRODID:Microsoft Exchange Server 2010
VERSION:2.0
X-WR-CALNAME:Honesch Social Media
BEGIN:VTIMEZONE
TZID:W. Europe Standard Time
BEGIN:STANDARD
DTSTART:16010101T030000
TZOFFSETFROM:+0200
TZOFFSETTO:+0100
RRULE:FREQ=YEARLY;INTERVAL=1;BYDAY=-1SU;BYMONTH=10
END:STANDARD
BEGIN:DAYLIGHT
DTSTART:16010101T020000
TZOFFSETFROM:+0100
TZOFFSETTO:+0200
RRULE:FREQ=YEARLY;INTERVAL=1;BYDAY=-1SU;BYMONTH=3
END:DAYLIGHT
END:VTIMEZONE
BEGIN:VTIMEZONE
TZID:UTC
BEGIN:STANDARD
DTSTART:16010101T000000
TZOFFSETFROM:+0000
TZOFFSETTO:+0000
END:STANDARD
BEGIN:DAYLIGHT
DTSTART:16010101T000000
TZOFFSETFROM:+0000
TZOFFSETTO:+0000
END:DAYLIGHT
END:VTIMEZONE
BEGIN:VEVENT
DESCRIPTION:\n
RRULE:FREQ=YEARLY;UNTIL=20260426T220000Z;INTERVAL=1;BYMONTHDAY=27;BYMONTH=4
UID:040000008200E00074C5B7101A82E0080000000030AB1510E6B2DC01000000000000000
 0100000003F7E32BECA814D48BDDC3D44F3E1FD9D
SUMMARY:Koningsdag
DTSTART;VALUE=DATE:20250427
DTEND;VALUE=DATE:20250428
CLASS:PUBLIC
PRIORITY:5
DTSTAMP:20260420T053005Z
TRANSP:TRANSPARENT
STATUS:CONFIRMED
SEQUENCE:0
LOCATION:
X-MICROSOFT-CDO-APPT-SEQUENCE:0
X-MICROSOFT-CDO-BUSYSTATUS:FREE
X-MICROSOFT-CDO-INTENDEDSTATUS:BUSY
X-MICROSOFT-CDO-ALLDAYEVENT:TRUE
X-MICROSOFT-CDO-IMPORTANCE:1
X-MICROSOFT-CDO-INSTTYPE:1
X-MICROSOFT-DONOTFORWARDMEETING:FALSE
X-MICROSOFT-DISALLOW-COUNTER:FALSE
X-MICROSOFT-REQUESTEDATTENDANCEMODE:DEFAULT
X-MICROSOFT-ISRESPONSEREQUESTED:FALSE
END:VEVENT
BEGIN:VEVENT
DESCRIPTION:\n
RRULE:FREQ=YEARLY;UNTIL=20260503T220000Z;INTERVAL=1;BYMONTHDAY=4;BYMONTH=5
UID:040000008200E00074C5B7101A82E00800000000B0523712E6B2DC01000000000000000
 010000000ACDF3309B47831488B5BF0F3980D3806
SUMMARY:Dodenherdenking
DTSTART;VALUE=DATE:20250504
DTEND;VALUE=DATE:20250505
CLASS:PUBLIC
PRIORITY:5
DTSTAMP:20260420T053005Z
TRANSP:TRANSPARENT
STATUS:CONFIRMED
SEQUENCE:0
LOCATION:
X-MICROSOFT-CDO-APPT-SEQUENCE:0
X-MICROSOFT-CDO-BUSYSTATUS:FREE
X-MICROSOFT-CDO-INTENDEDSTATUS:BUSY
X-MICROSOFT-CDO-ALLDAYEVENT:TRUE
X-MICROSOFT-CDO-IMPORTANCE:1
X-MICROSOFT-CDO-INSTTYPE:1
X-MICROSOFT-DONOTFORWARDMEETING:FALSE
X-MICROSOFT-DISALLOW-COUNTER:FALSE
X-MICROSOFT-REQUESTEDATTENDANCEMODE:DEFAULT
X-MICROSOFT-ISRESPONSEREQUESTED:FALSE
END:VEVENT
BEGIN:VEVENT
DESCRIPTION:\n
RRULE:FREQ=YEARLY;UNTIL=20260509T220000Z;INTERVAL=1;BYDAY=2SU;BYMONTH=5
UID:040000008200E00074C5B7101A82E0080000000040AB3017E6B2DC01000000000000000
 01000000066E64F8C4CCA644189065FF443FD31EC
SUMMARY:Moederdag
DTSTART;VALUE=DATE:20250511
DTEND;VALUE=DATE:20250512
CLASS:PUBLIC
PRIORITY:5
DTSTAMP:20260420T053005Z
TRANSP:TRANSPARENT
STATUS:CONFIRMED
SEQUENCE:0
LOCATION:
X-MICROSOFT-CDO-APPT-SEQUENCE:0
X-MICROSOFT-CDO-BUSYSTATUS:FREE
X-MICROSOFT-CDO-INTENDEDSTATUS:BUSY
X-MICROSOFT-CDO-ALLDAYEVENT:TRUE
X-MICROSOFT-CDO-IMPORTANCE:1
X-MICROSOFT-CDO-INSTTYPE:1
X-MICROSOFT-DONOTFORWARDMEETING:FALSE
X-MICROSOFT-DISALLOW-COUNTER:FALSE
X-MICROSOFT-REQUESTEDATTENDANCEMODE:DEFAULT
X-MICROSOFT-ISRESPONSEREQUESTED:FALSE
END:VEVENT
BEGIN:VEVENT
DESCRIPTION:\n
UID:040000008200E00074C5B7101A82E0080000000050717AFCE5B2DC01000000000000000
 0100000000EB379E514AEF74296B20F62B9A6EFA6
SUMMARY:Flappenmiddag voor hulpouders
DTSTART;TZID=W. Europe Standard Time:20260401T113000
DTEND;TZID=W. Europe Standard Time:20260401T123000
CLASS:PUBLIC
PRIORITY:5
DTSTAMP:20260420T053005Z
TRANSP:OPAQUE
STATUS:CONFIRMED
SEQUENCE:0
LOCATION:
X-MICROSOFT-CDO-APPT-SEQUENCE:0
X-MICROSOFT-CDO-BUSYSTATUS:BUSY
X-MICROSOFT-CDO-INTENDEDSTATUS:BUSY
X-MICROSOFT-CDO-ALLDAYEVENT:FALSE
X-MICROSOFT-CDO-IMPORTANCE:1
X-MICROSOFT-CDO-INSTTYPE:0
X-MICROSOFT-DONOTFORWARDMEETING:FALSE
X-MICROSOFT-DISALLOW-COUNTER:FALSE
X-MICROSOFT-REQUESTEDATTENDANCEMODE:DEFAULT
X-MICROSOFT-ISRESPONSEREQUESTED:FALSE
END:VEVENT
BEGIN:VEVENT
DESCRIPTION:\n
UID:040000008200E00074C5B7101A82E0080000000060A7B0FDE5B2DC01000000000000000
 010000000B302C7D030E1454EBDBD95E79EF72AE3
SUMMARY:Paas-activiteit
DTSTART;VALUE=DATE:20260403
DTEND;VALUE=DATE:20260404
CLASS:PUBLIC
PRIORITY:5
DTSTAMP:20260420T053005Z
TRANSP:TRANSPARENT
STATUS:CONFIRMED
SEQUENCE:0
LOCATION:
X-MICROSOFT-CDO-APPT-SEQUENCE:0
X-MICROSOFT-CDO-BUSYSTATUS:FREE
X-MICROSOFT-CDO-INTENDEDSTATUS:BUSY
X-MICROSOFT-CDO-ALLDAYEVENT:TRUE
X-MICROSOFT-CDO-IMPORTANCE:1
X-MICROSOFT-CDO-INSTTYPE:0
X-MICROSOFT-DONOTFORWARDMEETING:FALSE
X-MICROSOFT-DISALLOW-COUNTER:FALSE
X-MICROSOFT-REQUESTEDATTENDANCEMODE:DEFAULT
X-MICROSOFT-ISRESPONSEREQUESTED:FALSE
END:VEVENT
BEGIN:VEVENT
DESCRIPTION:\n
UID:040000008200E00074C5B7101A82E0080000000040951700E6B2DC01000000000000000
 01000000087FA0B8270798A44A778B47D38BC1365
SUMMARY:Pasen
DTSTART;VALUE=DATE:20260405
DTEND;VALUE=DATE:20260407
CLASS:PUBLIC
PRIORITY:5
DTSTAMP:20260420T053005Z
TRANSP:TRANSPARENT
STATUS:CONFIRMED
SEQUENCE:0
LOCATION:
X-MICROSOFT-CDO-APPT-SEQUENCE:0
X-MICROSOFT-CDO-BUSYSTATUS:FREE
X-MICROSOFT-CDO-INTENDEDSTATUS:BUSY
X-MICROSOFT-CDO-ALLDAYEVENT:TRUE
X-MICROSOFT-CDO-IMPORTANCE:1
X-MICROSOFT-CDO-INSTTYPE:0
X-MICROSOFT-DONOTFORWARDMEETING:FALSE
X-MICROSOFT-DISALLOW-COUNTER:FALSE
X-MICROSOFT-REQUESTEDATTENDANCEMODE:DEFAULT
X-MICROSOFT-ISRESPONSEREQUESTED:FALSE
END:VEVENT
BEGIN:VEVENT
DESCRIPTION:\n
UID:040000008200E00074C5B7101A82E00800000000D01D1503E6B2DC01000000000000000
 010000000B58E7F9944566C44B0D65C652E71BB93
SUMMARY:MR vergadering
DTSTART;VALUE=DATE:20260416
DTEND;VALUE=DATE:20260417
CLASS:PUBLIC
PRIORITY:5
DTSTAMP:20260420T053005Z
TRANSP:TRANSPARENT
STATUS:CONFIRMED
SEQUENCE:0
LOCATION:
X-MICROSOFT-CDO-APPT-SEQUENCE:0
X-MICROSOFT-CDO-BUSYSTATUS:FREE
X-MICROSOFT-CDO-INTENDEDSTATUS:BUSY
X-MICROSOFT-CDO-ALLDAYEVENT:TRUE
X-MICROSOFT-CDO-IMPORTANCE:1
X-MICROSOFT-CDO-INSTTYPE:0
X-MICROSOFT-DONOTFORWARDMEETING:FALSE
X-MICROSOFT-DISALLOW-COUNTER:FALSE
X-MICROSOFT-REQUESTEDATTENDANCEMODE:DEFAULT
X-MICROSOFT-ISRESPONSEREQUESTED:FALSE
END:VEVENT
BEGIN:VEVENT
DESCRIPTION:\n
UID:040000008200E00074C5B7101A82E0080000000030B41D04E6B2DC01000000000000000
 0100000005D02D28F74B1F34DA92CDAE6C78A573B
SUMMARY:OR/MR/Team-avond
DTSTART;VALUE=DATE:20260416
DTEND;VALUE=DATE:20260417
CLASS:PUBLIC
PRIORITY:5
DTSTAMP:20260420T053005Z
TRANSP:TRANSPARENT
STATUS:CONFIRMED
SEQUENCE:0
LOCATION:
X-MICROSOFT-CDO-APPT-SEQUENCE:0
X-MICROSOFT-CDO-BUSYSTATUS:FREE
X-MICROSOFT-CDO-INTENDEDSTATUS:BUSY
X-MICROSOFT-CDO-ALLDAYEVENT:TRUE
X-MICROSOFT-CDO-IMPORTANCE:1
X-MICROSOFT-CDO-INSTTYPE:0
X-MICROSOFT-DONOTFORWARDMEETING:FALSE
X-MICROSOFT-DISALLOW-COUNTER:FALSE
X-MICROSOFT-REQUESTEDATTENDANCEMODE:DEFAULT
X-MICROSOFT-ISRESPONSEREQUESTED:FALSE
END:VEVENT
BEGIN:VEVENT
DESCRIPTION:\n
UID:040000008200E00074C5B7101A82E00800000000B06A0405E6B2DC01000000000000000
 0100000003BE25140351C324194BEE1A7010AE596
SUMMARY:GMR vergadering
DTSTART;TZID=W. Europe Standard Time:20260416T193000
DTEND;TZID=W. Europe Standard Time:20260416T220000
CLASS:PUBLIC
PRIORITY:5
DTSTAMP:20260420T053005Z
TRANSP:OPAQUE
STATUS:CONFIRMED
SEQUENCE:0
LOCATION:
X-MICROSOFT-CDO-APPT-SEQUENCE:0
X-MICROSOFT-CDO-BUSYSTATUS:BUSY
X-MICROSOFT-CDO-INTENDEDSTATUS:BUSY
X-MICROSOFT-CDO-ALLDAYEVENT:FALSE
X-MICROSOFT-CDO-IMPORTANCE:1
X-MICROSOFT-CDO-INSTTYPE:0
X-MICROSOFT-DONOTFORWARDMEETING:FALSE
X-MICROSOFT-DISALLOW-COUNTER:FALSE
X-MICROSOFT-REQUESTEDATTENDANCEMODE:DEFAULT
X-MICROSOFT-ISRESPONSEREQUESTED:FALSE
END:VEVENT
BEGIN:VEVENT
DESCRIPTION:\n
UID:040000008200E00074C5B7101A82E00800000000A02C6407E6B2DC01000000000000000
 010000000890548D6D66AD34585E0E01AC3B969F1
SUMMARY:Afsluiting ProjectWijs
DTSTART;VALUE=DATE:20260417
DTEND;VALUE=DATE:20260418
CLASS:PUBLIC
PRIORITY:5
DTSTAMP:20260420T053005Z
TRANSP:TRANSPARENT
STATUS:CONFIRMED
SEQUENCE:0
LOCATION:
X-MICROSOFT-CDO-APPT-SEQUENCE:0
X-MICROSOFT-CDO-BUSYSTATUS:FREE
X-MICROSOFT-CDO-INTENDEDSTATUS:BUSY
X-MICROSOFT-CDO-ALLDAYEVENT:TRUE
X-MICROSOFT-CDO-IMPORTANCE:1
X-MICROSOFT-CDO-INSTTYPE:0
X-MICROSOFT-DONOTFORWARDMEETING:FALSE
X-MICROSOFT-DISALLOW-COUNTER:FALSE
X-MICROSOFT-REQUESTEDATTENDANCEMODE:DEFAULT
X-MICROSOFT-ISRESPONSEREQUESTED:FALSE
END:VEVENT
BEGIN:VEVENT
DESCRIPTION:\n
UID:040000008200E00074C5B7101A82E00800000000000F8A08E6B2DC01000000000000000
 0100000006B259C43942F2D48BCF309E28280597D
SUMMARY:Koningsspelen
DTSTART;VALUE=DATE:20260417
DTEND;VALUE=DATE:20260418
CLASS:PUBLIC
PRIORITY:5
DTSTAMP:20260420T053005Z
TRANSP:TRANSPARENT
STATUS:CONFIRMED
SEQUENCE:0
LOCATION:
X-MICROSOFT-CDO-APPT-SEQUENCE:0
X-MICROSOFT-CDO-BUSYSTATUS:FREE
X-MICROSOFT-CDO-INTENDEDSTATUS:BUSY
X-MICROSOFT-CDO-ALLDAYEVENT:TRUE
X-MICROSOFT-CDO-IMPORTANCE:1
X-MICROSOFT-CDO-INSTTYPE:0
X-MICROSOFT-DONOTFORWARDMEETING:FALSE
X-MICROSOFT-DISALLOW-COUNTER:FALSE
X-MICROSOFT-REQUESTEDATTENDANCEMODE:DEFAULT
X-MICROSOFT-ISRESPONSEREQUESTED:FALSE
END:VEVENT
BEGIN:VEVENT
DESCRIPTION:\n
UID:040000008200E00074C5B7101A82E0080000000050F1E709E6B2DC01000000000000000
 010000000B478C27C75C66540867EA875B7DB158F
SUMMARY:Meivakantie
DTSTART;VALUE=DATE:20260420
DTEND;VALUE=DATE:20260502
CLASS:PUBLIC
PRIORITY:5
DTSTAMP:20260420T053005Z
TRANSP:TRANSPARENT
STATUS:CONFIRMED
SEQUENCE:0
LOCATION:
X-MICROSOFT-CDO-APPT-SEQUENCE:0
X-MICROSOFT-CDO-BUSYSTATUS:FREE
X-MICROSOFT-CDO-INTENDEDSTATUS:BUSY
X-MICROSOFT-CDO-ALLDAYEVENT:TRUE
X-MICROSOFT-CDO-IMPORTANCE:1
X-MICROSOFT-CDO-INSTTYPE:0
X-MICROSOFT-DONOTFORWARDMEETING:FALSE
X-MICROSOFT-DISALLOW-COUNTER:FALSE
X-MICROSOFT-REQUESTEDATTENDANCEMODE:DEFAULT
X-MICROSOFT-ISRESPONSEREQUESTED:FALSE
END:VEVENT
BEGIN:VEVENT
DESCRIPTION:\n
UID:040000008200E00074C5B7101A82E0080000000030BD0013E6B2DC01000000000000000
 010000000DF2463550C581D449D161EF940C8D863
SUMMARY:Studiedag\; alle kinderen vrij
DTSTART;VALUE=DATE:20260504
DTEND;VALUE=DATE:20260505
CLASS:PUBLIC
PRIORITY:5
DTSTAMP:20260420T053005Z
TRANSP:TRANSPARENT
STATUS:CONFIRMED
SEQUENCE:0
LOCATION:
X-MICROSOFT-CDO-APPT-SEQUENCE:0
X-MICROSOFT-CDO-BUSYSTATUS:FREE
X-MICROSOFT-CDO-INTENDEDSTATUS:BUSY
X-MICROSOFT-CDO-ALLDAYEVENT:TRUE
X-MICROSOFT-CDO-IMPORTANCE:1
X-MICROSOFT-CDO-INSTTYPE:0
X-MICROSOFT-DONOTFORWARDMEETING:FALSE
X-MICROSOFT-DISALLOW-COUNTER:FALSE
X-MICROSOFT-REQUESTEDATTENDANCEMODE:DEFAULT
X-MICROSOFT-ISRESPONSEREQUESTED:FALSE
END:VEVENT
BEGIN:VEVENT
DESCRIPTION:\n
UID:040000008200E00074C5B7101A82E00800000000C019BE13E6B2DC01000000000000000
 010000000A1051DF52E4C954AADD7BDC1A92C9A7C
SUMMARY:Alle kinderen vrij
DTSTART;VALUE=DATE:20260505
DTEND;VALUE=DATE:20260506
CLASS:PUBLIC
PRIORITY:5
DTSTAMP:20260420T053005Z
TRANSP:TRANSPARENT
STATUS:CONFIRMED
SEQUENCE:0
LOCATION:
X-MICROSOFT-CDO-APPT-SEQUENCE:0
X-MICROSOFT-CDO-BUSYSTATUS:FREE
X-MICROSOFT-CDO-INTENDEDSTATUS:BUSY
X-MICROSOFT-CDO-ALLDAYEVENT:TRUE
X-MICROSOFT-CDO-IMPORTANCE:1
X-MICROSOFT-CDO-INSTTYPE:0
X-MICROSOFT-DONOTFORWARDMEETING:FALSE
X-MICROSOFT-DISALLOW-COUNTER:FALSE
X-MICROSOFT-REQUESTEDATTENDANCEMODE:DEFAULT
X-MICROSOFT-ISRESPONSEREQUESTED:FALSE
END:VEVENT
BEGIN:VEVENT
DESCRIPTION:\n
UID:040000008200E00074C5B7101A82E0080000000080028D14E6B2DC01000000000000000
 010000000322D6B234CF65643864F4EEB76596A67
SUMMARY:Luizencontrole
DTSTART;VALUE=DATE:20260506
DTEND;VALUE=DATE:20260507
CLASS:PUBLIC
PRIORITY:5
DTSTAMP:20260420T053005Z
TRANSP:TRANSPARENT
STATUS:CONFIRMED
SEQUENCE:0
LOCATION:
X-MICROSOFT-CDO-APPT-SEQUENCE:0
X-MICROSOFT-CDO-BUSYSTATUS:FREE
X-MICROSOFT-CDO-INTENDEDSTATUS:BUSY
X-MICROSOFT-CDO-ALLDAYEVENT:TRUE
X-MICROSOFT-CDO-IMPORTANCE:1
X-MICROSOFT-CDO-INSTTYPE:0
X-MICROSOFT-DONOTFORWARDMEETING:FALSE
X-MICROSOFT-DISALLOW-COUNTER:FALSE
X-MICROSOFT-REQUESTEDATTENDANCEMODE:DEFAULT
X-MICROSOFT-ISRESPONSEREQUESTED:FALSE
END:VEVENT
BEGIN:VEVENT
DESCRIPTION:\n
UID:040000008200E00074C5B7101A82E00800000000200E401AE6B2DC01000000000000000
 010000000D7187769D7AE8C45A5FBB675FC3A8279
SUMMARY:Handbaltoernooi
DTSTART;VALUE=DATE:20260512
DTEND;VALUE=DATE:20260513
CLASS:PUBLIC
PRIORITY:5
DTSTAMP:20260420T053005Z
TRANSP:TRANSPARENT
STATUS:CONFIRMED
SEQUENCE:0
LOCATION:
X-MICROSOFT-CDO-APPT-SEQUENCE:0
X-MICROSOFT-CDO-BUSYSTATUS:FREE
X-MICROSOFT-CDO-INTENDEDSTATUS:BUSY
X-MICROSOFT-CDO-ALLDAYEVENT:TRUE
X-MICROSOFT-CDO-IMPORTANCE:1
X-MICROSOFT-CDO-INSTTYPE:0
X-MICROSOFT-DONOTFORWARDMEETING:FALSE
X-MICROSOFT-DISALLOW-COUNTER:FALSE
X-MICROSOFT-REQUESTEDATTENDANCEMODE:DEFAULT
X-MICROSOFT-ISRESPONSEREQUESTED:FALSE
END:VEVENT
BEGIN:VEVENT
DESCRIPTION:\n
UID:040000008200E00074C5B7101A82E008000000004056B81BE6B2DC01000000000000000
 0100000009CA614739B524F47863387ED0FD25B47
SUMMARY:Hemelvaart
DTSTART;VALUE=DATE:20260514
DTEND;VALUE=DATE:20260516
CLASS:PUBLIC
PRIORITY:5
DTSTAMP:20260420T053005Z
TRANSP:TRANSPARENT
STATUS:CONFIRMED
SEQUENCE:0
LOCATION:
X-MICROSOFT-CDO-APPT-SEQUENCE:0
X-MICROSOFT-CDO-BUSYSTATUS:FREE
X-MICROSOFT-CDO-INTENDEDSTATUS:BUSY
X-MICROSOFT-CDO-ALLDAYEVENT:TRUE
X-MICROSOFT-CDO-IMPORTANCE:1
X-MICROSOFT-CDO-INSTTYPE:0
X-MICROSOFT-DONOTFORWARDMEETING:FALSE
X-MICROSOFT-DISALLOW-COUNTER:FALSE
X-MICROSOFT-REQUESTEDATTENDANCEMODE:DEFAULT
X-MICROSOFT-ISRESPONSEREQUESTED:FALSE
END:VEVENT
BEGIN:VEVENT
DESCRIPTION:\n
UID:040000008200E00074C5B7101A82E0080000000080FCC81FE6B2DC01000000000000000
 010000000AD3BD1B5A2779C4FAACBEFD868B66025
SUMMARY:Studiedag\; alle kinderen vrij
DTSTART;VALUE=DATE:20260522
DTEND;VALUE=DATE:20260523
CLASS:PUBLIC
PRIORITY:5
DTSTAMP:20260420T053005Z
TRANSP:TRANSPARENT
STATUS:CONFIRMED
SEQUENCE:0
LOCATION:
X-MICROSOFT-CDO-APPT-SEQUENCE:0
X-MICROSOFT-CDO-BUSYSTATUS:FREE
X-MICROSOFT-CDO-INTENDEDSTATUS:BUSY
X-MICROSOFT-CDO-ALLDAYEVENT:TRUE
X-MICROSOFT-CDO-IMPORTANCE:1
X-MICROSOFT-CDO-INSTTYPE:0
X-MICROSOFT-DONOTFORWARDMEETING:FALSE
X-MICROSOFT-DISALLOW-COUNTER:FALSE
X-MICROSOFT-REQUESTEDATTENDANCEMODE:DEFAULT
X-MICROSOFT-ISRESPONSEREQUESTED:FALSE
END:VEVENT
BEGIN:VEVENT
DESCRIPTION:\n
UID:040000008200E00074C5B7101A82E0080000000080C38721E6B2DC01000000000000000
 0100000004534B4747FC2394B8CECADD65196C992
SUMMARY:Pinksteren
DTSTART;VALUE=DATE:20260524
DTEND;VALUE=DATE:20260526
CLASS:PUBLIC
PRIORITY:5
DTSTAMP:20260420T053005Z
TRANSP:TRANSPARENT
STATUS:CONFIRMED
SEQUENCE:0
LOCATION:
X-MICROSOFT-CDO-APPT-SEQUENCE:0
X-MICROSOFT-CDO-BUSYSTATUS:FREE
X-MICROSOFT-CDO-INTENDEDSTATUS:BUSY
X-MICROSOFT-CDO-ALLDAYEVENT:TRUE
X-MICROSOFT-CDO-IMPORTANCE:1
X-MICROSOFT-CDO-INSTTYPE:0
X-MICROSOFT-DONOTFORWARDMEETING:FALSE
X-MICROSOFT-DISALLOW-COUNTER:FALSE
X-MICROSOFT-REQUESTEDATTENDANCEMODE:DEFAULT
X-MICROSOFT-ISRESPONSEREQUESTED:FALSE
END:VEVENT
BEGIN:VEVENT
DESCRIPTION:\n
UID:040000008200E00074C5B7101A82E0080000000060E25423E6B2DC01000000000000000
 010000000A9D29CA894439E4491D468E06D29EC73
SUMMARY:Studiedag: alle kinderen vrij
DTSTART;VALUE=DATE:20260526
DTEND;VALUE=DATE:20260527
CLASS:PUBLIC
PRIORITY:5
DTSTAMP:20260420T053005Z
TRANSP:TRANSPARENT
STATUS:CONFIRMED
SEQUENCE:0
LOCATION:
X-MICROSOFT-CDO-APPT-SEQUENCE:0
X-MICROSOFT-CDO-BUSYSTATUS:FREE
X-MICROSOFT-CDO-INTENDEDSTATUS:BUSY
X-MICROSOFT-CDO-ALLDAYEVENT:TRUE
X-MICROSOFT-CDO-IMPORTANCE:1
X-MICROSOFT-CDO-INSTTYPE:0
X-MICROSOFT-DONOTFORWARDMEETING:FALSE
X-MICROSOFT-DISALLOW-COUNTER:FALSE
X-MICROSOFT-REQUESTEDATTENDANCEMODE:DEFAULT
X-MICROSOFT-ISRESPONSEREQUESTED:FALSE
END:VEVENT
BEGIN:VEVENT
DESCRIPTION:\n
UID:040000008200E00074C5B7101A82E00800000000002A1C24E6B2DC01000000000000000
 010000000DDBD2C8E2E7BFB43A660DB674456099B
SUMMARY:GMR vergadering
DTSTART;TZID=W. Europe Standard Time:20260526T193000
DTEND;TZID=W. Europe Standard Time:20260526T220000
CLASS:PUBLIC
PRIORITY:5
DTSTAMP:20260420T053005Z
TRANSP:OPAQUE
STATUS:CONFIRMED
SEQUENCE:0
LOCATION:
X-MICROSOFT-CDO-APPT-SEQUENCE:0
X-MICROSOFT-CDO-BUSYSTATUS:BUSY
X-MICROSOFT-CDO-INTENDEDSTATUS:BUSY
X-MICROSOFT-CDO-ALLDAYEVENT:FALSE
X-MICROSOFT-CDO-IMPORTANCE:1
X-MICROSOFT-CDO-INSTTYPE:0
X-MICROSOFT-DONOTFORWARDMEETING:FALSE
X-MICROSOFT-DISALLOW-COUNTER:FALSE
X-MICROSOFT-REQUESTEDATTENDANCEMODE:DEFAULT
X-MICROSOFT-ISRESPONSEREQUESTED:FALSE
END:VEVENT
BEGIN:VEVENT
DESCRIPTION:\n
UID:040000008200E00074C5B7101A82E00800000000F0978327E6B2DC01000000000000000
 010000000F55A548C87B75944899A9717D2A5C56E
SUMMARY:Deze week: Avondvierdaagse
DTSTART;VALUE=DATE:20260601
DTEND;VALUE=DATE:20260606
CLASS:PUBLIC
PRIORITY:5
DTSTAMP:20260420T053005Z
TRANSP:TRANSPARENT
STATUS:CONFIRMED
SEQUENCE:0
LOCATION:
X-MICROSOFT-CDO-APPT-SEQUENCE:0
X-MICROSOFT-CDO-BUSYSTATUS:FREE
X-MICROSOFT-CDO-INTENDEDSTATUS:BUSY
X-MICROSOFT-CDO-ALLDAYEVENT:TRUE
X-MICROSOFT-CDO-IMPORTANCE:1
X-MICROSOFT-CDO-INSTTYPE:0
X-MICROSOFT-DONOTFORWARDMEETING:FALSE
X-MICROSOFT-DISALLOW-COUNTER:FALSE
X-MICROSOFT-REQUESTEDATTENDANCEMODE:DEFAULT
X-MICROSOFT-ISRESPONSEREQUESTED:FALSE
END:VEVENT
BEGIN:VEVENT
DESCRIPTION:\n
UID:040000008200E00074C5B7101A82E00800000000E00CD52AE6B2DC01000000000000000
 010000000B2F8583DCCF8F54197FA69B8C5FA1C26
SUMMARY:MR vergadering
DTSTART;VALUE=DATE:20260611
DTEND;VALUE=DATE:20260612
CLASS:PUBLIC
PRIORITY:5
DTSTAMP:20260420T053005Z
TRANSP:TRANSPARENT
STATUS:CONFIRMED
SEQUENCE:0
LOCATION:
X-MICROSOFT-CDO-APPT-SEQUENCE:0
X-MICROSOFT-CDO-BUSYSTATUS:FREE
X-MICROSOFT-CDO-INTENDEDSTATUS:BUSY
X-MICROSOFT-CDO-ALLDAYEVENT:TRUE
X-MICROSOFT-CDO-IMPORTANCE:1
X-MICROSOFT-CDO-INSTTYPE:0
X-MICROSOFT-DONOTFORWARDMEETING:FALSE
X-MICROSOFT-DISALLOW-COUNTER:FALSE
X-MICROSOFT-REQUESTEDATTENDANCEMODE:DEFAULT
X-MICROSOFT-ISRESPONSEREQUESTED:FALSE
END:VEVENT
BEGIN:VEVENT
DESCRIPTION:\n
UID:040000008200E00074C5B7101A82E00800000000009DC42BE6B2DC01000000000000000
 010000000F6AE92DE178FB145A8A2AB4B6BA43D2A
SUMMARY:GMR vergadering
DTSTART;TZID=W. Europe Standard Time:20260616T193000
DTEND;TZID=W. Europe Standard Time:20260616T220000
CLASS:PUBLIC
PRIORITY:5
DTSTAMP:20260420T053005Z
TRANSP:OPAQUE
STATUS:CONFIRMED
SEQUENCE:0
LOCATION:
X-MICROSOFT-CDO-APPT-SEQUENCE:0
X-MICROSOFT-CDO-BUSYSTATUS:BUSY
X-MICROSOFT-CDO-INTENDEDSTATUS:BUSY
X-MICROSOFT-CDO-ALLDAYEVENT:FALSE
X-MICROSOFT-CDO-IMPORTANCE:1
X-MICROSOFT-CDO-INSTTYPE:0
X-MICROSOFT-DONOTFORWARDMEETING:FALSE
X-MICROSOFT-DISALLOW-COUNTER:FALSE
X-MICROSOFT-REQUESTEDATTENDANCEMODE:DEFAULT
X-MICROSOFT-ISRESPONSEREQUESTED:FALSE
END:VEVENT
BEGIN:VEVENT
DESCRIPTION:\n
UID:040000008200E00074C5B7101A82E00800000000E082DF2CE6B2DC01000000000000000
 0100000009BEE1B2FAA7B2342B71ABBDE9577B67A
SUMMARY:Rapport 2 mee
DTSTART;VALUE=DATE:20260619
DTEND;VALUE=DATE:20260620
CLASS:PUBLIC
PRIORITY:5
DTSTAMP:20260420T053005Z
TRANSP:TRANSPARENT
STATUS:CONFIRMED
SEQUENCE:0
LOCATION:
X-MICROSOFT-CDO-APPT-SEQUENCE:0
X-MICROSOFT-CDO-BUSYSTATUS:FREE
X-MICROSOFT-CDO-INTENDEDSTATUS:BUSY
X-MICROSOFT-CDO-ALLDAYEVENT:TRUE
X-MICROSOFT-CDO-IMPORTANCE:1
X-MICROSOFT-CDO-INSTTYPE:0
X-MICROSOFT-DONOTFORWARDMEETING:FALSE
X-MICROSOFT-DISALLOW-COUNTER:FALSE
X-MICROSOFT-REQUESTEDATTENDANCEMODE:DEFAULT
X-MICROSOFT-ISRESPONSEREQUESTED:FALSE
END:VEVENT
BEGIN:VEVENT
DESCRIPTION:\n
UID:040000008200E00074C5B7101A82E00800000000A01DAF2FE6B2DC01000000000000000
 010000000B515C6420A4DDD4BB06E5CEF9E2CE6C0
SUMMARY:Deze week: oudergesprek voorlopig schooladvies gr. 7
DTSTART;VALUE=DATE:20260622
DTEND;VALUE=DATE:20260627
CLASS:PUBLIC
PRIORITY:5
DTSTAMP:20260420T053005Z
TRANSP:TRANSPARENT
STATUS:CONFIRMED
SEQUENCE:0
LOCATION:
X-MICROSOFT-CDO-APPT-SEQUENCE:0
X-MICROSOFT-CDO-BUSYSTATUS:FREE
X-MICROSOFT-CDO-INTENDEDSTATUS:BUSY
X-MICROSOFT-CDO-ALLDAYEVENT:TRUE
X-MICROSOFT-CDO-IMPORTANCE:1
X-MICROSOFT-CDO-INSTTYPE:0
X-MICROSOFT-DONOTFORWARDMEETING:FALSE
X-MICROSOFT-DISALLOW-COUNTER:FALSE
X-MICROSOFT-REQUESTEDATTENDANCEMODE:DEFAULT
X-MICROSOFT-ISRESPONSEREQUESTED:FALSE
END:VEVENT
BEGIN:VEVENT
DESCRIPTION:\n
UID:040000008200E00074C5B7101A82E00800000000E065B730E6B2DC01000000000000000
 010000000E977111CEEA0A94BADCB3C391E9CDD59
SUMMARY:Deze week: rapportgesprekken (op aanvraag)
DTSTART;VALUE=DATE:20260622
DTEND;VALUE=DATE:20260627
CLASS:PUBLIC
PRIORITY:5
DTSTAMP:20260420T053005Z
TRANSP:TRANSPARENT
STATUS:CONFIRMED
SEQUENCE:0
LOCATION:
X-MICROSOFT-CDO-APPT-SEQUENCE:0
X-MICROSOFT-CDO-BUSYSTATUS:FREE
X-MICROSOFT-CDO-INTENDEDSTATUS:BUSY
X-MICROSOFT-CDO-ALLDAYEVENT:TRUE
X-MICROSOFT-CDO-IMPORTANCE:1
X-MICROSOFT-CDO-INSTTYPE:0
X-MICROSOFT-DONOTFORWARDMEETING:FALSE
X-MICROSOFT-DISALLOW-COUNTER:FALSE
X-MICROSOFT-REQUESTEDATTENDANCEMODE:DEFAULT
X-MICROSOFT-ISRESPONSEREQUESTED:FALSE
END:VEVENT
BEGIN:VEVENT
DESCRIPTION:\n
UID:040000008200E00074C5B7101A82E00800000000C059A631E6B2DC01000000000000000
 010000000043DDA21EE5DC84DAA852DD38585FF0F
SUMMARY:Meester-/juffendag
DTSTART;VALUE=DATE:20260624
DTEND;VALUE=DATE:20260625
CLASS:PUBLIC
PRIORITY:5
DTSTAMP:20260420T053005Z
TRANSP:TRANSPARENT
STATUS:CONFIRMED
SEQUENCE:0
LOCATION:
X-MICROSOFT-CDO-APPT-SEQUENCE:0
X-MICROSOFT-CDO-BUSYSTATUS:FREE
X-MICROSOFT-CDO-INTENDEDSTATUS:BUSY
X-MICROSOFT-CDO-ALLDAYEVENT:TRUE
X-MICROSOFT-CDO-IMPORTANCE:1
X-MICROSOFT-CDO-INSTTYPE:0
X-MICROSOFT-DONOTFORWARDMEETING:FALSE
X-MICROSOFT-DISALLOW-COUNTER:FALSE
X-MICROSOFT-REQUESTEDATTENDANCEMODE:DEFAULT
X-MICROSOFT-ISRESPONSEREQUESTED:FALSE
END:VEVENT
BEGIN:VEVENT
DESCRIPTION:\n
UID:040000008200E00074C5B7101A82E0080000000040EBA732E6B2DC01000000000000000
 0100000006BF2CF4C997CC449A49B2C43C80CA9E2
SUMMARY:Kennismakingsmiddag
DTSTART;VALUE=DATE:20260625
DTEND;VALUE=DATE:20260626
CLASS:PUBLIC
PRIORITY:5
DTSTAMP:20260420T053005Z
TRANSP:TRANSPARENT
STATUS:CONFIRMED
SEQUENCE:0
LOCATION:
X-MICROSOFT-CDO-APPT-SEQUENCE:0
X-MICROSOFT-CDO-BUSYSTATUS:FREE
X-MICROSOFT-CDO-INTENDEDSTATUS:BUSY
X-MICROSOFT-CDO-ALLDAYEVENT:TRUE
X-MICROSOFT-CDO-IMPORTANCE:1
X-MICROSOFT-CDO-INSTTYPE:0
X-MICROSOFT-DONOTFORWARDMEETING:FALSE
X-MICROSOFT-DISALLOW-COUNTER:FALSE
X-MICROSOFT-REQUESTEDATTENDANCEMODE:DEFAULT
X-MICROSOFT-ISRESPONSEREQUESTED:FALSE
END:VEVENT
BEGIN:VEVENT
DESCRIPTION:\n
UID:040000008200E00074C5B7101A82E0080000000060B2F633E6B2DC01000000000000000
 010000000522261CD9BC35E46A1B56B54EFD35E9D
SUMMARY:Gezinsactiviteit
DTSTART;VALUE=DATE:20260626
DTEND;VALUE=DATE:20260627
CLASS:PUBLIC
PRIORITY:5
DTSTAMP:20260420T053005Z
TRANSP:TRANSPARENT
STATUS:CONFIRMED
SEQUENCE:0
LOCATION:
X-MICROSOFT-CDO-APPT-SEQUENCE:0
X-MICROSOFT-CDO-BUSYSTATUS:FREE
X-MICROSOFT-CDO-INTENDEDSTATUS:BUSY
X-MICROSOFT-CDO-ALLDAYEVENT:TRUE
X-MICROSOFT-CDO-IMPORTANCE:1
X-MICROSOFT-CDO-INSTTYPE:0
X-MICROSOFT-DONOTFORWARDMEETING:FALSE
X-MICROSOFT-DISALLOW-COUNTER:FALSE
X-MICROSOFT-REQUESTEDATTENDANCEMODE:DEFAULT
X-MICROSOFT-ISRESPONSEREQUESTED:FALSE
END:VEVENT
BEGIN:VEVENT
DESCRIPTION:\n
UID:040000008200E00074C5B7101A82E008000000000082D134E6B2DC01000000000000000
 0100000009EE572DE034A864882BD0212270E4647
SUMMARY:Musical gr. 7/8 (ouders en belangstellenden)
DTSTART;VALUE=DATE:20260630
DTEND;VALUE=DATE:20260701
CLASS:PUBLIC
PRIORITY:5
DTSTAMP:20260420T053005Z
TRANSP:TRANSPARENT
STATUS:CONFIRMED
SEQUENCE:0
LOCATION:
X-MICROSOFT-CDO-APPT-SEQUENCE:0
X-MICROSOFT-CDO-BUSYSTATUS:FREE
X-MICROSOFT-CDO-INTENDEDSTATUS:BUSY
X-MICROSOFT-CDO-ALLDAYEVENT:TRUE
X-MICROSOFT-CDO-IMPORTANCE:1
X-MICROSOFT-CDO-INSTTYPE:0
X-MICROSOFT-DONOTFORWARDMEETING:FALSE
X-MICROSOFT-DISALLOW-COUNTER:FALSE
X-MICROSOFT-REQUESTEDATTENDANCEMODE:DEFAULT
X-MICROSOFT-ISRESPONSEREQUESTED:FALSE
END:VEVENT
BEGIN:VEVENT
DESCRIPTION:\n
UID:040000008200E00074C5B7101A82E0080000000070F3BC35E6B2DC01000000000000000
 01000000055EAA4D57C57A94097693E0F215885A1
SUMMARY:Laatste schooldag
DTSTART;VALUE=DATE:20260702
DTEND;VALUE=DATE:20260703
CLASS:PUBLIC
PRIORITY:5
DTSTAMP:20260420T053005Z
TRANSP:TRANSPARENT
STATUS:CONFIRMED
SEQUENCE:0
LOCATION:
X-MICROSOFT-CDO-APPT-SEQUENCE:0
X-MICROSOFT-CDO-BUSYSTATUS:FREE
X-MICROSOFT-CDO-INTENDEDSTATUS:BUSY
X-MICROSOFT-CDO-ALLDAYEVENT:TRUE
X-MICROSOFT-CDO-IMPORTANCE:1
X-MICROSOFT-CDO-INSTTYPE:0
X-MICROSOFT-DONOTFORWARDMEETING:FALSE
X-MICROSOFT-DISALLOW-COUNTER:FALSE
X-MICROSOFT-REQUESTEDATTENDANCEMODE:DEFAULT
X-MICROSOFT-ISRESPONSEREQUESTED:FALSE
END:VEVENT
BEGIN:VEVENT
DESCRIPTION:\n
UID:040000008200E00074C5B7101A82E00800000000E0BE9936E6B2DC01000000000000000
 010000000DFBF9017BA5C73449EF1741408348100
SUMMARY:Alle kinderen vrij
DTSTART;VALUE=DATE:20260703
DTEND;VALUE=DATE:20260704
CLASS:PUBLIC
PRIORITY:5
DTSTAMP:20260420T053005Z
TRANSP:TRANSPARENT
STATUS:CONFIRMED
SEQUENCE:0
LOCATION:
X-MICROSOFT-CDO-APPT-SEQUENCE:0
X-MICROSOFT-CDO-BUSYSTATUS:FREE
X-MICROSOFT-CDO-INTENDEDSTATUS:BUSY
X-MICROSOFT-CDO-ALLDAYEVENT:TRUE
X-MICROSOFT-CDO-IMPORTANCE:1
X-MICROSOFT-CDO-INSTTYPE:0
X-MICROSOFT-DONOTFORWARDMEETING:FALSE
X-MICROSOFT-DISALLOW-COUNTER:FALSE
X-MICROSOFT-REQUESTEDATTENDANCEMODE:DEFAULT
X-MICROSOFT-ISRESPONSEREQUESTED:FALSE
END:VEVENT
BEGIN:VEVENT
DESCRIPTION:\n
UID:040000008200E00074C5B7101A82E00800000000706E5E37E6B2DC01000000000000000
 01000000003F94BF3E541C241B06868319C837E15
SUMMARY:Zomervakantie
DTSTART;VALUE=DATE:20260706
DTEND;VALUE=DATE:20260815
CLASS:PUBLIC
PRIORITY:5
DTSTAMP:20260420T053005Z
TRANSP:TRANSPARENT
STATUS:CONFIRMED
SEQUENCE:0
LOCATION:
X-MICROSOFT-CDO-APPT-SEQUENCE:0
X-MICROSOFT-CDO-BUSYSTATUS:FREE
X-MICROSOFT-CDO-INTENDEDSTATUS:BUSY
X-MICROSOFT-CDO-ALLDAYEVENT:TRUE
X-MICROSOFT-CDO-IMPORTANCE:1
X-MICROSOFT-CDO-INSTTYPE:0
X-MICROSOFT-DONOTFORWARDMEETING:FALSE
X-MICROSOFT-DISALLOW-COUNTER:FALSE
X-MICROSOFT-REQUESTEDATTENDANCEMODE:DEFAULT
X-MICROSOFT-ISRESPONSEREQUESTED:FALSE
END:VEVENT
END:VCALENDAR
