BEGIN:VCALENDAR
METHOD:PUBLISH
PRODID:Microsoft Exchange Server 2010
VERSION:2.0
X-WR-CALNAME:Chor der Strawanzer
BEGIN:VTIMEZONE
TZID:W. Europe Standard Time
BEGIN:STANDARD
DTSTART:16010101T030000
TZOFFSETFROM:+0200
TZOFFSETTO:+0100
RRULE:FREQ=YEARLY;INTERVAL=1;BYDAY=-1SU;BYMONTH=10
END:STANDARD
BEGIN:DAYLIGHT
DTSTART:16010101T020000
TZOFFSETFROM:+0100
TZOFFSETTO:+0200
RRULE:FREQ=YEARLY;INTERVAL=1;BYDAY=-1SU;BYMONTH=3
END:DAYLIGHT
END:VTIMEZONE
BEGIN:VEVENT
RRULE:FREQ=WEEKLY;UNTIL=20261030T140000Z;INTERVAL=1;BYDAY=FR;WKST=MO
EXDATE;TZID=W. Europe Standard Time:20260529T150000,20260605T150000,2026091
 8T150000,20260925T150000
UID:040000008200E00074C5B7101A82E00800000000FB45FB90FDBCDC01000000000000000
 0100000002449120532F50447BFF1EB374507D631
SUMMARY:Chor der Strawanzer-Probe
DTSTART;TZID=W. Europe Standard Time:20260508T150000
DTEND;TZID=W. Europe Standard Time:20260508T163000
CLASS:PUBLIC
PRIORITY:5
DTSTAMP:20260420T115933Z
TRANSP:OPAQUE
STATUS:CONFIRMED
SEQUENCE:0
LOCATION:MOTORAMA Ladenstadt\; Raum: "Mitmach Lab"
X-MICROSOFT-CDO-APPT-SEQUENCE:0
X-MICROSOFT-CDO-BUSYSTATUS:BUSY
X-MICROSOFT-CDO-INTENDEDSTATUS:BUSY
X-MICROSOFT-CDO-ALLDAYEVENT:FALSE
X-MICROSOFT-CDO-IMPORTANCE:1
X-MICROSOFT-CDO-INSTTYPE:1
X-MICROSOFT-DONOTFORWARDMEETING:FALSE
X-MICROSOFT-DISALLOW-COUNTER:FALSE
X-MICROSOFT-REQUESTEDATTENDANCEMODE:DEFAULT
X-MICROSOFT-ISRESPONSEREQUESTED:FALSE
END:VEVENT
END:VCALENDAR
