BEGIN:VCALENDAR
METHOD:PUBLISH
PRODID:Microsoft Exchange Server 2010
VERSION:2.0
X-WR-CALNAME:AELK Events
BEGIN:VTIMEZONE
TZID:W. Europe Standard Time
BEGIN:STANDARD
DTSTART:16010101T030000
TZOFFSETFROM:+0200
TZOFFSETTO:+0100
RRULE:FREQ=YEARLY;INTERVAL=1;BYDAY=-1SU;BYMONTH=10
END:STANDARD
BEGIN:DAYLIGHT
DTSTART:16010101T020000
TZOFFSETFROM:+0100
TZOFFSETTO:+0200
RRULE:FREQ=YEARLY;INTERVAL=1;BYDAY=-1SU;BYMONTH=3
END:DAYLIGHT
END:VTIMEZONE
BEGIN:VEVENT
RRULE:FREQ=WEEKLY;UNTIL=20260727T170000Z;INTERVAL=1;BYDAY=MO;WKST=MO
UID:040000008200E00074C5B7101A82E0080000000005BB392316CFDC01000000000000000
 01000000036A2A11ABA3B8D4DAA41AE9CC4B3DA93
SUMMARY:Stammdesch
DTSTART;TZID=W. Europe Standard Time:20260420T190000
DTEND;TZID=W. Europe Standard Time:20260420T235900
CLASS:PUBLIC
PRIORITY:5
DTSTAMP:20260422T120201Z
TRANSP:OPAQUE
STATUS:CONFIRMED
SEQUENCE:0
LOCATION:
X-MICROSOFT-CDO-APPT-SEQUENCE:0
X-MICROSOFT-CDO-BUSYSTATUS:BUSY
X-MICROSOFT-CDO-INTENDEDSTATUS:BUSY
X-MICROSOFT-CDO-ALLDAYEVENT:FALSE
X-MICROSOFT-CDO-IMPORTANCE:1
X-MICROSOFT-CDO-INSTTYPE:1
X-MICROSOFT-DONOTFORWARDMEETING:FALSE
X-MICROSOFT-DISALLOW-COUNTER:FALSE
X-MICROSOFT-REQUESTEDATTENDANCEMODE:DEFAULT
X-MICROSOFT-ISRESPONSEREQUESTED:FALSE
END:VEVENT
BEGIN:VEVENT
DESCRIPTION:\n
UID:040000008200E00074C5B7101A82E00800000000A67E714F08ACDC01000000000000000
 0100000002DC46E89BEB69F4599EC494EFA7302CC
SUMMARY:Beerpong
DTSTART;VALUE=DATE:20260423
DTEND;VALUE=DATE:20260424
CLASS:PUBLIC
PRIORITY:5
DTSTAMP:20260422T120201Z
TRANSP:TRANSPARENT
STATUS:CONFIRMED
SEQUENCE:0
LOCATION:
X-MICROSOFT-CDO-APPT-SEQUENCE:0
X-MICROSOFT-CDO-BUSYSTATUS:FREE
X-MICROSOFT-CDO-INTENDEDSTATUS:BUSY
X-MICROSOFT-CDO-ALLDAYEVENT:TRUE
X-MICROSOFT-CDO-IMPORTANCE:1
X-MICROSOFT-CDO-INSTTYPE:0
X-MICROSOFT-DONOTFORWARDMEETING:FALSE
X-MICROSOFT-DISALLOW-COUNTER:FALSE
X-MICROSOFT-REQUESTEDATTENDANCEMODE:DEFAULT
X-MICROSOFT-ISRESPONSEREQUESTED:FALSE
END:VEVENT
BEGIN:VEVENT
DESCRIPTION:\n
UID:040000008200E00074C5B7101A82E008000000001F2542295FCBDC01000000000000000
 0100000009B7387B10A12D64F966600D2F4B5E9A9
SUMMARY:Schroeder Visitte
DTSTART;VALUE=DATE:20260505
DTEND;VALUE=DATE:20260506
CLASS:PUBLIC
PRIORITY:5
DTSTAMP:20260422T120201Z
TRANSP:TRANSPARENT
STATUS:CONFIRMED
SEQUENCE:0
LOCATION:
X-MICROSOFT-CDO-APPT-SEQUENCE:0
X-MICROSOFT-CDO-BUSYSTATUS:FREE
X-MICROSOFT-CDO-INTENDEDSTATUS:BUSY
X-MICROSOFT-CDO-ALLDAYEVENT:TRUE
X-MICROSOFT-CDO-IMPORTANCE:1
X-MICROSOFT-CDO-INSTTYPE:0
X-MICROSOFT-DONOTFORWARDMEETING:FALSE
X-MICROSOFT-DISALLOW-COUNTER:FALSE
X-MICROSOFT-REQUESTEDATTENDANCEMODE:DEFAULT
X-MICROSOFT-ISRESPONSEREQUESTED:FALSE
END:VEVENT
BEGIN:VEVENT
DESCRIPTION:\n
UID:040000008200E00074C5B7101A82E008000000008349CEEA0BACDC01000000000000000
 01000000021D3F556D45A7F45A1F25C54BF43ABC9
SUMMARY:Bowling Lago
DTSTART;VALUE=DATE:20260507
DTEND;VALUE=DATE:20260508
CLASS:PUBLIC
PRIORITY:5
DTSTAMP:20260422T120201Z
TRANSP:TRANSPARENT
STATUS:CONFIRMED
SEQUENCE:0
LOCATION:
X-MICROSOFT-CDO-APPT-SEQUENCE:0
X-MICROSOFT-CDO-BUSYSTATUS:FREE
X-MICROSOFT-CDO-INTENDEDSTATUS:BUSY
X-MICROSOFT-CDO-ALLDAYEVENT:TRUE
X-MICROSOFT-CDO-IMPORTANCE:1
X-MICROSOFT-CDO-INSTTYPE:0
X-MICROSOFT-DONOTFORWARDMEETING:FALSE
X-MICROSOFT-DISALLOW-COUNTER:FALSE
X-MICROSOFT-REQUESTEDATTENDANCEMODE:DEFAULT
X-MICROSOFT-ISRESPONSEREQUESTED:FALSE
END:VEVENT
BEGIN:VEVENT
DESCRIPTION:\n
UID:040000008200E00074C5B7101A82E00800000000B462738F13CFDC01000000000000000
 0100000000DB09C9B97D4E44CA50252F3807915BE
SUMMARY:Daf
DTSTART;VALUE=DATE:20260512
DTEND;VALUE=DATE:20260513
CLASS:PUBLIC
PRIORITY:5
DTSTAMP:20260422T120201Z
TRANSP:TRANSPARENT
STATUS:CONFIRMED
SEQUENCE:0
LOCATION:
X-MICROSOFT-CDO-APPT-SEQUENCE:0
X-MICROSOFT-CDO-BUSYSTATUS:FREE
X-MICROSOFT-CDO-INTENDEDSTATUS:BUSY
X-MICROSOFT-CDO-ALLDAYEVENT:TRUE
X-MICROSOFT-CDO-IMPORTANCE:1
X-MICROSOFT-CDO-INSTTYPE:0
X-MICROSOFT-DONOTFORWARDMEETING:FALSE
X-MICROSOFT-DISALLOW-COUNTER:FALSE
X-MICROSOFT-REQUESTEDATTENDANCEMODE:DEFAULT
X-MICROSOFT-ISRESPONSEREQUESTED:FALSE
END:VEVENT
BEGIN:VEVENT
DESCRIPTION:\n
UID:040000008200E00074C5B7101A82E00800000000871517DAC4CCDC01000000000000000
 010000000C415EE51DDA913409D5DC23B673B9F4A
SUMMARY:Karting mam LSH
DTSTART;VALUE=DATE:20260520
DTEND;VALUE=DATE:20260521
CLASS:PUBLIC
PRIORITY:5
DTSTAMP:20260422T120201Z
TRANSP:TRANSPARENT
STATUS:CONFIRMED
SEQUENCE:0
LOCATION:
X-MICROSOFT-CDO-APPT-SEQUENCE:0
X-MICROSOFT-CDO-BUSYSTATUS:FREE
X-MICROSOFT-CDO-INTENDEDSTATUS:BUSY
X-MICROSOFT-CDO-ALLDAYEVENT:TRUE
X-MICROSOFT-CDO-IMPORTANCE:1
X-MICROSOFT-CDO-INSTTYPE:0
X-MICROSOFT-DONOTFORWARDMEETING:FALSE
X-MICROSOFT-DISALLOW-COUNTER:FALSE
X-MICROSOFT-REQUESTEDATTENDANCEMODE:DEFAULT
X-MICROSOFT-ISRESPONSEREQUESTED:FALSE
END:VEVENT
BEGIN:VEVENT
DESCRIPTION:\n
UID:040000008200E00074C5B7101A82E0080000000085EAC6ED05ACDC01000000000000000
 010000000D4353E9F5A7F914DAB126015039BAC65
SUMMARY:Clubrees
DTSTART;VALUE=DATE:20260611
DTEND;VALUE=DATE:20260615
CLASS:PUBLIC
PRIORITY:5
DTSTAMP:20260422T120201Z
TRANSP:TRANSPARENT
STATUS:CONFIRMED
SEQUENCE:0
LOCATION:
X-MICROSOFT-CDO-APPT-SEQUENCE:0
X-MICROSOFT-CDO-BUSYSTATUS:FREE
X-MICROSOFT-CDO-INTENDEDSTATUS:BUSY
X-MICROSOFT-CDO-ALLDAYEVENT:TRUE
X-MICROSOFT-CDO-IMPORTANCE:1
X-MICROSOFT-CDO-INSTTYPE:0
X-MICROSOFT-DONOTFORWARDMEETING:FALSE
X-MICROSOFT-DISALLOW-COUNTER:FALSE
X-MICROSOFT-REQUESTEDATTENDANCEMODE:DEFAULT
X-MICROSOFT-ISRESPONSEREQUESTED:FALSE
END:VEVENT
BEGIN:VEVENT
DESCRIPTION:\n
UID:040000008200E00074C5B7101A82E00800000000510CC5F705ACDC01000000000000000
 0100000007E884C0331027F4789D2A5C53B399D7E
SUMMARY:LSH Feierwon
DTSTART;VALUE=DATE:20260619
DTEND;VALUE=DATE:20260622
CLASS:PUBLIC
PRIORITY:5
DTSTAMP:20260422T120201Z
TRANSP:TRANSPARENT
STATUS:CONFIRMED
SEQUENCE:0
LOCATION:
X-MICROSOFT-CDO-APPT-SEQUENCE:0
X-MICROSOFT-CDO-BUSYSTATUS:FREE
X-MICROSOFT-CDO-INTENDEDSTATUS:BUSY
X-MICROSOFT-CDO-ALLDAYEVENT:TRUE
X-MICROSOFT-CDO-IMPORTANCE:1
X-MICROSOFT-CDO-INSTTYPE:0
X-MICROSOFT-DONOTFORWARDMEETING:FALSE
X-MICROSOFT-DISALLOW-COUNTER:FALSE
X-MICROSOFT-REQUESTEDATTENDANCEMODE:DEFAULT
X-MICROSOFT-ISRESPONSEREQUESTED:FALSE
END:VEVENT
BEGIN:VEVENT
DESCRIPTION:\n
UID:040000008200E00074C5B7101A82E00800000000902DD8C3DB6EDC01000000000000000
 010000000905E11B714A64B4CA3A6CA99D81CD052
SUMMARY:VHR
DTSTART;VALUE=DATE:20260626
DTEND;VALUE=DATE:20260627
CLASS:PUBLIC
PRIORITY:5
DTSTAMP:20260422T120201Z
TRANSP:TRANSPARENT
STATUS:CONFIRMED
SEQUENCE:0
LOCATION:
X-MICROSOFT-CDO-APPT-SEQUENCE:0
X-MICROSOFT-CDO-BUSYSTATUS:FREE
X-MICROSOFT-CDO-INTENDEDSTATUS:BUSY
X-MICROSOFT-CDO-ALLDAYEVENT:TRUE
X-MICROSOFT-CDO-IMPORTANCE:1
X-MICROSOFT-CDO-INSTTYPE:0
X-MICROSOFT-DONOTFORWARDMEETING:FALSE
X-MICROSOFT-DISALLOW-COUNTER:FALSE
X-MICROSOFT-REQUESTEDATTENDANCEMODE:DEFAULT
X-MICROSOFT-ISRESPONSEREQUESTED:FALSE
END:VEVENT
BEGIN:VEVENT
DESCRIPTION:\n
UID:040000008200E00074C5B7101A82E00800000000B7C3A3E213CFDC01000000000000000
 010000000E1B8B823757FFA4BB9A977327A2855B6
SUMMARY:LSK Beachvolleyball Intercercle
DTSTART;VALUE=DATE:20260704
DTEND;VALUE=DATE:20260706
CLASS:PUBLIC
PRIORITY:5
DTSTAMP:20260422T120201Z
TRANSP:TRANSPARENT
STATUS:CONFIRMED
SEQUENCE:0
LOCATION:
X-MICROSOFT-CDO-APPT-SEQUENCE:0
X-MICROSOFT-CDO-BUSYSTATUS:FREE
X-MICROSOFT-CDO-INTENDEDSTATUS:BUSY
X-MICROSOFT-CDO-ALLDAYEVENT:TRUE
X-MICROSOFT-CDO-IMPORTANCE:1
X-MICROSOFT-CDO-INSTTYPE:0
X-MICROSOFT-DONOTFORWARDMEETING:FALSE
X-MICROSOFT-DISALLOW-COUNTER:FALSE
X-MICROSOFT-REQUESTEDATTENDANCEMODE:DEFAULT
X-MICROSOFT-ISRESPONSEREQUESTED:FALSE
END:VEVENT
BEGIN:VEVENT
DESCRIPTION:\n
UID:040000008200E00074C5B7101A82E008000000000C67ACA20AACDC01000000000000000
 01000000097280E3DFFB9A44998EB159A7CCB1986
SUMMARY:Rulantica
DTSTART;VALUE=DATE:20260706
DTEND;VALUE=DATE:20260707
CLASS:PUBLIC
PRIORITY:5
DTSTAMP:20260422T120201Z
TRANSP:TRANSPARENT
STATUS:CONFIRMED
SEQUENCE:0
LOCATION:
X-MICROSOFT-CDO-APPT-SEQUENCE:0
X-MICROSOFT-CDO-BUSYSTATUS:FREE
X-MICROSOFT-CDO-INTENDEDSTATUS:BUSY
X-MICROSOFT-CDO-ALLDAYEVENT:TRUE
X-MICROSOFT-CDO-IMPORTANCE:1
X-MICROSOFT-CDO-INSTTYPE:0
X-MICROSOFT-DONOTFORWARDMEETING:FALSE
X-MICROSOFT-DISALLOW-COUNTER:FALSE
X-MICROSOFT-REQUESTEDATTENDANCEMODE:DEFAULT
X-MICROSOFT-ISRESPONSEREQUESTED:FALSE
END:VEVENT
BEGIN:VEVENT
DESCRIPTION:\n
UID:040000008200E00074C5B7101A82E0080000000081DF6A630BACDC01000000000000000
 010000000C99F26F3329EAA4AB3922A6B8EC00DD4
SUMMARY:Baggerseifest / äppes dobaussen
DTSTART;VALUE=DATE:20260713
DTEND;VALUE=DATE:20260714
CLASS:PUBLIC
PRIORITY:5
DTSTAMP:20260422T120201Z
TRANSP:TRANSPARENT
STATUS:CONFIRMED
SEQUENCE:0
LOCATION:
X-MICROSOFT-CDO-APPT-SEQUENCE:0
X-MICROSOFT-CDO-BUSYSTATUS:FREE
X-MICROSOFT-CDO-INTENDEDSTATUS:BUSY
X-MICROSOFT-CDO-ALLDAYEVENT:TRUE
X-MICROSOFT-CDO-IMPORTANCE:1
X-MICROSOFT-CDO-INSTTYPE:0
X-MICROSOFT-DONOTFORWARDMEETING:FALSE
X-MICROSOFT-DISALLOW-COUNTER:FALSE
X-MICROSOFT-REQUESTEDATTENDANCEMODE:DEFAULT
X-MICROSOFT-ISRESPONSEREQUESTED:FALSE
END:VEVENT
BEGIN:VEVENT
DESCRIPTION:\n
UID:040000008200E00074C5B7101A82E00800000000AFC9EDDA60CBDC01000000000000000
 0100000003FB1B9895E7BEA46A5E7B03919147595
SUMMARY:INCA Visitte
DTSTART;VALUE=DATE:20260721
DTEND;VALUE=DATE:20260722
CLASS:PUBLIC
PRIORITY:5
DTSTAMP:20260422T120201Z
TRANSP:TRANSPARENT
STATUS:CONFIRMED
SEQUENCE:0
LOCATION:
X-MICROSOFT-CDO-APPT-SEQUENCE:0
X-MICROSOFT-CDO-BUSYSTATUS:FREE
X-MICROSOFT-CDO-INTENDEDSTATUS:BUSY
X-MICROSOFT-CDO-ALLDAYEVENT:TRUE
X-MICROSOFT-CDO-IMPORTANCE:1
X-MICROSOFT-CDO-INSTTYPE:0
X-MICROSOFT-DONOTFORWARDMEETING:FALSE
X-MICROSOFT-DISALLOW-COUNTER:FALSE
X-MICROSOFT-REQUESTEDATTENDANCEMODE:DEFAULT
X-MICROSOFT-ISRESPONSEREQUESTED:FALSE
END:VEVENT
END:VCALENDAR
