BEGIN:VCALENDAR
METHOD:PUBLISH
PRODID:Microsoft Exchange Server 2010
VERSION:2.0
X-WR-CALNAME:Calendar
BEGIN:VTIMEZONE
TZID:Eastern Standard Time
BEGIN:STANDARD
DTSTART:16010101T020000
TZOFFSETFROM:-0400
TZOFFSETTO:-0500
RRULE:FREQ=YEARLY;INTERVAL=1;BYDAY=1SU;BYMONTH=11
END:STANDARD
BEGIN:DAYLIGHT
DTSTART:16010101T020000
TZOFFSETFROM:-0500
TZOFFSETTO:-0400
RRULE:FREQ=YEARLY;INTERVAL=1;BYDAY=2SU;BYMONTH=3
END:DAYLIGHT
END:VTIMEZONE
BEGIN:VEVENT
DESCRIPTION:Long hurdlers\n\n\n  *\n2x 2 hurdles - 5 mins rest\n  *\n2x 6 h
 urdles- 10min rest - Fast Pace\n     *\nGoal Pace\n        *\nBenji - 59\n
         *\nElliot -62\n        *\nJude - 64\n        *\nNorah- 63\n       
  *\nHannah- 67\n\n\n\nShort hurdlers\n\n\n  *\n2x1H\n  *\n2x3H\n  *\n1x6H\
 n     *\nFocus\n        *\nGianna - Consistent Start and hold speed\n     
    *\nEllie - Better to H1 \, correct trail leg\n        *\nJocelyn - Spee
 d between hurdles\, trail leg\n  *\n1x120 - 95%\n\n
UID:040000008200E00074C5B7101A82E008000000007B9EF9E873CADC01000000000000000
 010000000462DB73010C2DD46B633511E67A2A519
SUMMARY:Hurdle Practice - Hard
DTSTART;TZID=Eastern Standard Time:20260413T153000
DTEND;TZID=Eastern Standard Time:20260413T173000
CLASS:PUBLIC
PRIORITY:5
DTSTAMP:20260421T101941Z
TRANSP:OPAQUE
STATUS:CONFIRMED
SEQUENCE:0
LOCATION:
X-MICROSOFT-CDO-APPT-SEQUENCE:0
X-MICROSOFT-CDO-BUSYSTATUS:BUSY
X-MICROSOFT-CDO-INTENDEDSTATUS:BUSY
X-MICROSOFT-CDO-ALLDAYEVENT:FALSE
X-MICROSOFT-CDO-IMPORTANCE:1
X-MICROSOFT-CDO-INSTTYPE:0
X-MICROSOFT-DONOTFORWARDMEETING:FALSE
X-MICROSOFT-DISALLOW-COUNTER:FALSE
X-MICROSOFT-REQUESTEDATTENDANCEMODE:DEFAULT
X-MICROSOFT-ISRESPONSEREQUESTED:FALSE
END:VEVENT
BEGIN:VEVENT
DESCRIPTION:Norah - First real practice?\n
UID:040000008200E00074C5B7101A82E008000000006B362D4975CADC01000000000000000
 010000000F99A2BE635399E4F89024FFC3B5C7B81
SUMMARY:Hurdle Practice? 
DTSTART;TZID=Eastern Standard Time:20260416T153000
DTEND;TZID=Eastern Standard Time:20260416T173000
CLASS:PUBLIC
PRIORITY:5
DTSTAMP:20260421T101941Z
TRANSP:OPAQUE
STATUS:CONFIRMED
SEQUENCE:0
LOCATION:
X-MICROSOFT-CDO-APPT-SEQUENCE:0
X-MICROSOFT-CDO-BUSYSTATUS:BUSY
X-MICROSOFT-CDO-INTENDEDSTATUS:BUSY
X-MICROSOFT-CDO-ALLDAYEVENT:FALSE
X-MICROSOFT-CDO-IMPORTANCE:1
X-MICROSOFT-CDO-INSTTYPE:0
X-MICROSOFT-DONOTFORWARDMEETING:FALSE
X-MICROSOFT-DISALLOW-COUNTER:FALSE
X-MICROSOFT-REQUESTEDATTENDANCEMODE:DEFAULT
X-MICROSOFT-ISRESPONSEREQUESTED:FALSE
END:VEVENT
BEGIN:VEVENT
DESCRIPTION:Long Hurdlers - Work on touch down times \, 1 hard effort\n\nSh
 ort Hurdlers - Block starts \, speed hurdles \, 1 max effort\n
UID:040000008200E00074C5B7101A82E00800000000B357B03173CADC01000000000000000
 0100000009461624B3F057A42901D81EE327F5695
SUMMARY:Hurdle Practice - Medium
DTSTART;TZID=Eastern Standard Time:20260418T093000
DTEND;TZID=Eastern Standard Time:20260418T110000
CLASS:PUBLIC
PRIORITY:5
DTSTAMP:20260421T101941Z
TRANSP:OPAQUE
STATUS:CONFIRMED
SEQUENCE:0
X-MICROSOFT-CDO-APPT-SEQUENCE:0
X-MICROSOFT-CDO-BUSYSTATUS:BUSY
X-MICROSOFT-CDO-INTENDEDSTATUS:BUSY
X-MICROSOFT-CDO-ALLDAYEVENT:FALSE
X-MICROSOFT-CDO-IMPORTANCE:1
X-MICROSOFT-CDO-INSTTYPE:0
X-MICROSOFT-DONOTFORWARDMEETING:FALSE
X-MICROSOFT-DISALLOW-COUNTER:FALSE
X-MICROSOFT-REQUESTEDATTENDANCEMODE:DEFAULT
X-MICROSOFT-ISRESPONSEREQUESTED:FALSE
END:VEVENT
BEGIN:VEVENT
DESCRIPTION:\n
UID:040000008200E00074C5B7101A82E00800000000351FA11F73CADC01000000000000000
 010000000092558F4D177224B8FACA4EBA7CB4D17
SUMMARY:Pre Meet Practice
DTSTART;TZID=Eastern Standard Time:20260420T153000
DTEND;TZID=Eastern Standard Time:20260420T173000
CLASS:PUBLIC
PRIORITY:5
DTSTAMP:20260421T101941Z
TRANSP:OPAQUE
STATUS:CONFIRMED
SEQUENCE:0
LOCATION:
X-MICROSOFT-CDO-APPT-SEQUENCE:0
X-MICROSOFT-CDO-BUSYSTATUS:BUSY
X-MICROSOFT-CDO-INTENDEDSTATUS:BUSY
X-MICROSOFT-CDO-ALLDAYEVENT:FALSE
X-MICROSOFT-CDO-IMPORTANCE:1
X-MICROSOFT-CDO-INSTTYPE:0
X-MICROSOFT-DONOTFORWARDMEETING:FALSE
X-MICROSOFT-DISALLOW-COUNTER:FALSE
X-MICROSOFT-REQUESTEDATTENDANCEMODE:DEFAULT
X-MICROSOFT-ISRESPONSEREQUESTED:FALSE
END:VEVENT
BEGIN:VEVENT
DESCRIPTION:\n
UID:040000008200E00074C5B7101A82E008000000007AAC05F472CADC01000000000000000
 0100000008BCB9921C0B8494B84CD2A36204B62DC
SUMMARY:1A District 9 Championship
DTSTART;VALUE=DATE:20260421
DTEND;VALUE=DATE:20260422
CLASS:PUBLIC
PRIORITY:5
DTSTAMP:20260421T101941Z
TRANSP:TRANSPARENT
STATUS:CONFIRMED
SEQUENCE:0
LOCATION:Indian Rocks Christian School (12685 Ulmerton Rd\, Largo\, FL 3377
 4\, United States)
X-MICROSOFT-CDO-APPT-SEQUENCE:0
X-MICROSOFT-CDO-BUSYSTATUS:FREE
X-MICROSOFT-CDO-INTENDEDSTATUS:BUSY
X-MICROSOFT-CDO-ALLDAYEVENT:TRUE
X-MICROSOFT-CDO-IMPORTANCE:1
X-MICROSOFT-CDO-INSTTYPE:0
X-MICROSOFT-DONOTFORWARDMEETING:FALSE
X-MICROSOFT-DISALLOW-COUNTER:FALSE
X-MICROSOFT-REQUESTEDATTENDANCEMODE:DEFAULT
X-MICROSOFT-ISRESPONSEREQUESTED:FALSE
END:VEVENT
BEGIN:VEVENT
DESCRIPTION:Long hurdlers\n\n\n  *\n     *\nGoal Pace\n        *\nBenji - 5
 9\n        *\nElliot -62\n        *\nJude - 64\n        *\nNorah- 63\n    
     *\nHannah- 67\n\n\n\nShort hurdlers\n\n\n  *\n\n
UID:040000008200E00074C5B7101A82E0080000000017CE8A0775CADC01000000000000000
 010000000622F366852C23743A5B29B53EDC320DF
SUMMARY:Hurdle Practice - Hard 
DTSTART;TZID=Eastern Standard Time:20260427T100000
DTEND;TZID=Eastern Standard Time:20260427T120000
CLASS:PUBLIC
PRIORITY:5
DTSTAMP:20260421T101941Z
TRANSP:OPAQUE
STATUS:CONFIRMED
SEQUENCE:0
LOCATION:
X-MICROSOFT-CDO-APPT-SEQUENCE:0
X-MICROSOFT-CDO-BUSYSTATUS:BUSY
X-MICROSOFT-CDO-INTENDEDSTATUS:BUSY
X-MICROSOFT-CDO-ALLDAYEVENT:FALSE
X-MICROSOFT-CDO-IMPORTANCE:1
X-MICROSOFT-CDO-INSTTYPE:0
X-MICROSOFT-DONOTFORWARDMEETING:FALSE
X-MICROSOFT-DISALLOW-COUNTER:FALSE
X-MICROSOFT-REQUESTEDATTENDANCEMODE:DEFAULT
X-MICROSOFT-ISRESPONSEREQUESTED:FALSE
END:VEVENT
BEGIN:VEVENT
DESCRIPTION:\n
UID:040000008200E00074C5B7101A82E00800000000B5C5A43B75CADC01000000000000000
 010000000362CCFE2D339D94DB83E462C50F4229E
SUMMARY:Pre Meet Practice
DTSTART;TZID=Eastern Standard Time:20260430T153000
DTEND;TZID=Eastern Standard Time:20260430T173000
CLASS:PUBLIC
PRIORITY:5
DTSTAMP:20260421T101941Z
TRANSP:OPAQUE
STATUS:CONFIRMED
SEQUENCE:0
LOCATION:
X-MICROSOFT-CDO-APPT-SEQUENCE:0
X-MICROSOFT-CDO-BUSYSTATUS:BUSY
X-MICROSOFT-CDO-INTENDEDSTATUS:BUSY
X-MICROSOFT-CDO-ALLDAYEVENT:FALSE
X-MICROSOFT-CDO-IMPORTANCE:1
X-MICROSOFT-CDO-INSTTYPE:0
X-MICROSOFT-DONOTFORWARDMEETING:FALSE
X-MICROSOFT-DISALLOW-COUNTER:FALSE
X-MICROSOFT-REQUESTEDATTENDANCEMODE:DEFAULT
X-MICROSOFT-ISRESPONSEREQUESTED:FALSE
END:VEVENT
BEGIN:VEVENT
DESCRIPTION:8am - Long jump\n2:00 pm 4x800m Relay*\n4:15 pm 100m Hurdles\n4
 :25 pm 110m Hurdles\n4:35 pm 100m Dash (and Para)\n4:50 pm 800m Para\n4:55
  pm 1600m Run*\n5:15 pm 4x100m Relay\n5:30 pm 400m Dash (and Para)\n5:45 p
 m 400m Hurdles\n6:00 pm 800m Run*\n\n6:15 pm 200m Dash (and Para)\n6:30 pm
  3200m Run*\n7:30 pm 4X400m Relay\n8:00 pm Team Awards\n
UID:040000008200E00074C5B7101A82E00800000000F6BC41C274CADC01000000000000000
 0100000006A7326385FF7954B914A96F84D4CC7FD
SUMMARY:1A Regional 3 Championship
DTSTART;VALUE=DATE:20260501
DTEND;VALUE=DATE:20260502
CLASS:PUBLIC
PRIORITY:5
DTSTAMP:20260421T101941Z
TRANSP:TRANSPARENT
STATUS:CONFIRMED
SEQUENCE:0
LOCATION:King High School (6815 N 56th St\, Tampa\, FL 33610\, United State
 s)
X-MICROSOFT-CDO-APPT-SEQUENCE:0
X-MICROSOFT-CDO-BUSYSTATUS:FREE
X-MICROSOFT-CDO-INTENDEDSTATUS:BUSY
X-MICROSOFT-CDO-ALLDAYEVENT:TRUE
X-MICROSOFT-CDO-IMPORTANCE:1
X-MICROSOFT-CDO-INSTTYPE:0
X-MICROSOFT-DONOTFORWARDMEETING:FALSE
X-MICROSOFT-DISALLOW-COUNTER:FALSE
X-MICROSOFT-REQUESTEDATTENDANCEMODE:DEFAULT
X-MICROSOFT-ISRESPONSEREQUESTED:FALSE
END:VEVENT
BEGIN:VEVENT
DESCRIPTION:Technique and drills.\n
UID:040000008200E00074C5B7101A82E00800000000A1DE9D9274CADC01000000000000000
 010000000B869158F829F8D4DBC802186A2F214BD
SUMMARY:Hurdle Practice - Medium
DTSTART;TZID=Eastern Standard Time:20260502T093000
DTEND;TZID=Eastern Standard Time:20260502T110000
CLASS:PUBLIC
PRIORITY:5
DTSTAMP:20260421T101941Z
TRANSP:OPAQUE
STATUS:CONFIRMED
SEQUENCE:0
LOCATION:
X-MICROSOFT-CDO-APPT-SEQUENCE:0
X-MICROSOFT-CDO-BUSYSTATUS:BUSY
X-MICROSOFT-CDO-INTENDEDSTATUS:BUSY
X-MICROSOFT-CDO-ALLDAYEVENT:FALSE
X-MICROSOFT-CDO-IMPORTANCE:1
X-MICROSOFT-CDO-INSTTYPE:0
X-MICROSOFT-DONOTFORWARDMEETING:FALSE
X-MICROSOFT-DISALLOW-COUNTER:FALSE
X-MICROSOFT-REQUESTEDATTENDANCEMODE:DEFAULT
X-MICROSOFT-ISRESPONSEREQUESTED:FALSE
END:VEVENT
BEGIN:VEVENT
DESCRIPTION:\n
UID:040000008200E00074C5B7101A82E008000000008B0134E274CADC01000000000000000
 0100000005BF373431E5EC04B99BDB3E9C7505C58
SUMMARY:Hurdle Practice?
DTSTART;VALUE=DATE:20260504
DTEND;VALUE=DATE:20260505
CLASS:PUBLIC
PRIORITY:5
DTSTAMP:20260421T101941Z
TRANSP:TRANSPARENT
STATUS:CONFIRMED
SEQUENCE:0
X-MICROSOFT-CDO-APPT-SEQUENCE:0
X-MICROSOFT-CDO-BUSYSTATUS:FREE
X-MICROSOFT-CDO-INTENDEDSTATUS:BUSY
X-MICROSOFT-CDO-ALLDAYEVENT:TRUE
X-MICROSOFT-CDO-IMPORTANCE:1
X-MICROSOFT-CDO-INSTTYPE:0
X-MICROSOFT-DONOTFORWARDMEETING:FALSE
X-MICROSOFT-DISALLOW-COUNTER:FALSE
X-MICROSOFT-REQUESTEDATTENDANCEMODE:DEFAULT
X-MICROSOFT-ISRESPONSEREQUESTED:FALSE
END:VEVENT
BEGIN:VEVENT
DESCRIPTION:\n
UID:040000008200E00074C5B7101A82E0080000000037D02AD474CADC01000000000000000
 0100000006C8A190D2612F54D8132FFF95176B344
SUMMARY:1A State Championship 
DTSTART;VALUE=DATE:20260506
DTEND;VALUE=DATE:20260507
CLASS:PUBLIC
PRIORITY:5
DTSTAMP:20260421T101941Z
TRANSP:TRANSPARENT
STATUS:CONFIRMED
SEQUENCE:0
LOCATION:University of North Florida (Jacksonville\, Florida\, United State
 s)
X-MICROSOFT-CDO-APPT-SEQUENCE:0
X-MICROSOFT-CDO-BUSYSTATUS:FREE
X-MICROSOFT-CDO-INTENDEDSTATUS:BUSY
X-MICROSOFT-CDO-ALLDAYEVENT:TRUE
X-MICROSOFT-CDO-IMPORTANCE:1
X-MICROSOFT-CDO-INSTTYPE:0
X-MICROSOFT-DONOTFORWARDMEETING:FALSE
X-MICROSOFT-DISALLOW-COUNTER:FALSE
X-MICROSOFT-REQUESTEDATTENDANCEMODE:DEFAULT
X-MICROSOFT-ISRESPONSEREQUESTED:FALSE
END:VEVENT
BEGIN:VEVENT
DESCRIPTION:Tentative meet schedule. Dates subject to change.\\nFull meet s
 chedule: View PDF\n
UID:54b71b4e-bf93-4a23-a7f7-f12ca2e44c88@openai
SUMMARY:OTD Timing Summer Series #1
DTSTART;VALUE=DATE:20260516
DTEND;VALUE=DATE:20260517
CLASS:PUBLIC
PRIORITY:5
DTSTAMP:20260421T101941Z
TRANSP:OPAQUE
STATUS:CONFIRMED
SEQUENCE:0
LOCATION:Tenoroc High School\, Lakeland
X-MICROSOFT-CDO-APPT-SEQUENCE:0
X-MICROSOFT-CDO-BUSYSTATUS:TENTATIVE
X-MICROSOFT-CDO-INTENDEDSTATUS:BUSY
X-MICROSOFT-CDO-ALLDAYEVENT:TRUE
X-MICROSOFT-CDO-IMPORTANCE:1
X-MICROSOFT-CDO-INSTTYPE:0
X-MICROSOFT-DONOTFORWARDMEETING:FALSE
X-MICROSOFT-DISALLOW-COUNTER:FALSE
X-MICROSOFT-REQUESTEDATTENDANCEMODE:DEFAULT
X-MICROSOFT-ISRESPONSEREQUESTED:FALSE
END:VEVENT
BEGIN:VEVENT
DESCRIPTION:Team practice.\n
UID:040000008200E00074C5B7101A82E00800000000D8DD5DBA76CADC01000000000000000
 010000000A7900A897E442045830011CDBDA7C664
SUMMARY:MB Practice
DTSTART;VALUE=DATE:20260518
DTEND;VALUE=DATE:20260519
CLASS:PUBLIC
PRIORITY:5
DTSTAMP:20260421T101941Z
TRANSP:TRANSPARENT
STATUS:CONFIRMED
SEQUENCE:0
LOCATION:
X-MICROSOFT-CDO-APPT-SEQUENCE:0
X-MICROSOFT-CDO-BUSYSTATUS:FREE
X-MICROSOFT-CDO-INTENDEDSTATUS:BUSY
X-MICROSOFT-CDO-ALLDAYEVENT:TRUE
X-MICROSOFT-CDO-IMPORTANCE:1
X-MICROSOFT-CDO-INSTTYPE:0
X-MICROSOFT-DONOTFORWARDMEETING:FALSE
X-MICROSOFT-DISALLOW-COUNTER:FALSE
X-MICROSOFT-REQUESTEDATTENDANCEMODE:DEFAULT
X-MICROSOFT-ISRESPONSEREQUESTED:FALSE
END:VEVENT
BEGIN:VEVENT
DESCRIPTION:Tentative meet schedule. Dates subject to change.\n
UID:5abdc9e9-a3a4-4b86-89c0-499cabe3cb9b@openai
SUMMARY:BAYTAF Classic
DTSTART;VALUE=DATE:20260522
DTEND;VALUE=DATE:20260525
CLASS:PUBLIC
PRIORITY:5
DTSTAMP:20260421T101941Z
TRANSP:OPAQUE
STATUS:CONFIRMED
SEQUENCE:0
LOCATION:Jefferson High School\, Tampa\, FL
X-MICROSOFT-CDO-APPT-SEQUENCE:0
X-MICROSOFT-CDO-BUSYSTATUS:TENTATIVE
X-MICROSOFT-CDO-INTENDEDSTATUS:BUSY
X-MICROSOFT-CDO-ALLDAYEVENT:TRUE
X-MICROSOFT-CDO-IMPORTANCE:1
X-MICROSOFT-CDO-INSTTYPE:0
X-MICROSOFT-DONOTFORWARDMEETING:FALSE
X-MICROSOFT-DISALLOW-COUNTER:FALSE
X-MICROSOFT-REQUESTEDATTENDANCEMODE:DEFAULT
X-MICROSOFT-ISRESPONSEREQUESTED:FALSE
END:VEVENT
BEGIN:VEVENT
DESCRIPTION:Tentative meet schedule. Dates subject to change.\\nTop 6 (comb
 ined results) qualify to AAU Junior Olympics (Alternate Route)\n
UID:0e4cbdb0-deb3-4978-8550-421729d4f6c1@openai
SUMMARY:NexGen AAU Primary Track & Field Invitational National Qualifier
DTSTART;VALUE=DATE:20260530
DTEND;VALUE=DATE:20260601
CLASS:PUBLIC
PRIORITY:5
DTSTAMP:20260421T101941Z
TRANSP:OPAQUE
STATUS:CONFIRMED
SEQUENCE:0
LOCATION:Miramar\, FL
X-MICROSOFT-CDO-APPT-SEQUENCE:0
X-MICROSOFT-CDO-BUSYSTATUS:TENTATIVE
X-MICROSOFT-CDO-INTENDEDSTATUS:BUSY
X-MICROSOFT-CDO-ALLDAYEVENT:TRUE
X-MICROSOFT-CDO-IMPORTANCE:1
X-MICROSOFT-CDO-INSTTYPE:0
X-MICROSOFT-DONOTFORWARDMEETING:FALSE
X-MICROSOFT-DISALLOW-COUNTER:FALSE
X-MICROSOFT-REQUESTEDATTENDANCEMODE:DEFAULT
X-MICROSOFT-ISRESPONSEREQUESTED:FALSE
END:VEVENT
BEGIN:VEVENT
DESCRIPTION:Tentative meet schedule. Dates subject to change.\n
UID:73ec133b-63c6-4bc2-9288-cef5e46c5a1f@openai
SUMMARY:TNT Track Club Invitational
DTSTART;VALUE=DATE:20260530
DTEND;VALUE=DATE:20260531
CLASS:PUBLIC
PRIORITY:5
DTSTAMP:20260421T101941Z
TRANSP:OPAQUE
STATUS:CONFIRMED
SEQUENCE:0
LOCATION:Cypress Creek HS\, Orlando\, FL
X-MICROSOFT-CDO-APPT-SEQUENCE:0
X-MICROSOFT-CDO-BUSYSTATUS:TENTATIVE
X-MICROSOFT-CDO-INTENDEDSTATUS:BUSY
X-MICROSOFT-CDO-ALLDAYEVENT:TRUE
X-MICROSOFT-CDO-IMPORTANCE:1
X-MICROSOFT-CDO-INSTTYPE:0
X-MICROSOFT-DONOTFORWARDMEETING:FALSE
X-MICROSOFT-DISALLOW-COUNTER:FALSE
X-MICROSOFT-REQUESTEDATTENDANCEMODE:DEFAULT
X-MICROSOFT-ISRESPONSEREQUESTED:FALSE
END:VEVENT
BEGIN:VEVENT
DESCRIPTION:Tentative meet schedule. Dates subject to change.\\nFull meet s
 chedule: View PDF\n
UID:6b06ca22-7b7e-465c-a4fc-8bf0e51c8f54@openai
SUMMARY:OTD Timing Summer Series #2
DTSTART;VALUE=DATE:20260530
DTEND;VALUE=DATE:20260531
CLASS:PUBLIC
PRIORITY:5
DTSTAMP:20260421T101941Z
TRANSP:OPAQUE
STATUS:CONFIRMED
SEQUENCE:0
LOCATION:Tenoroc High School\, Lakeland
X-MICROSOFT-CDO-APPT-SEQUENCE:0
X-MICROSOFT-CDO-BUSYSTATUS:TENTATIVE
X-MICROSOFT-CDO-INTENDEDSTATUS:BUSY
X-MICROSOFT-CDO-ALLDAYEVENT:TRUE
X-MICROSOFT-CDO-IMPORTANCE:1
X-MICROSOFT-CDO-INSTTYPE:0
X-MICROSOFT-DONOTFORWARDMEETING:FALSE
X-MICROSOFT-DISALLOW-COUNTER:FALSE
X-MICROSOFT-REQUESTEDATTENDANCEMODE:DEFAULT
X-MICROSOFT-ISRESPONSEREQUESTED:FALSE
END:VEVENT
BEGIN:VEVENT
DESCRIPTION:Tentative meet schedule. Dates subject to change.\\nTop 16 adva
 nce to Regionals\n
UID:1325a33f-bff8-4785-8086-392cb71ad1af@openai
SUMMARY:AAU Florida District Qualifier
DTSTART;VALUE=DATE:20260606
DTEND;VALUE=DATE:20260607
CLASS:PUBLIC
PRIORITY:5
DTSTAMP:20260421T101941Z
TRANSP:OPAQUE
STATUS:CONFIRMED
SEQUENCE:0
LOCATION:Lakeland\, FL
X-MICROSOFT-CDO-APPT-SEQUENCE:0
X-MICROSOFT-CDO-BUSYSTATUS:TENTATIVE
X-MICROSOFT-CDO-INTENDEDSTATUS:BUSY
X-MICROSOFT-CDO-ALLDAYEVENT:TRUE
X-MICROSOFT-CDO-IMPORTANCE:1
X-MICROSOFT-CDO-INSTTYPE:0
X-MICROSOFT-DONOTFORWARDMEETING:FALSE
X-MICROSOFT-DISALLOW-COUNTER:FALSE
X-MICROSOFT-REQUESTEDATTENDANCEMODE:DEFAULT
X-MICROSOFT-ISRESPONSEREQUESTED:FALSE
END:VEVENT
BEGIN:VEVENT
DESCRIPTION:Tentative meet schedule. Dates subject to change.\\nFull meet s
 chedule: View PDF\n
UID:f4878eaa-308f-426f-9205-8c4e37a3ff86@openai
SUMMARY:OTD Timing Summer Series #3
DTSTART;VALUE=DATE:20260620
DTEND;VALUE=DATE:20260621
CLASS:PUBLIC
PRIORITY:5
DTSTAMP:20260421T101941Z
TRANSP:OPAQUE
STATUS:CONFIRMED
SEQUENCE:0
LOCATION:Tenoroc High School\, Lakeland
X-MICROSOFT-CDO-APPT-SEQUENCE:0
X-MICROSOFT-CDO-BUSYSTATUS:TENTATIVE
X-MICROSOFT-CDO-INTENDEDSTATUS:BUSY
X-MICROSOFT-CDO-ALLDAYEVENT:TRUE
X-MICROSOFT-CDO-IMPORTANCE:1
X-MICROSOFT-CDO-INSTTYPE:0
X-MICROSOFT-DONOTFORWARDMEETING:FALSE
X-MICROSOFT-DISALLOW-COUNTER:FALSE
X-MICROSOFT-REQUESTEDATTENDANCEMODE:DEFAULT
X-MICROSOFT-ISRESPONSEREQUESTED:FALSE
END:VEVENT
BEGIN:VEVENT
DESCRIPTION:Tentative meet schedule. Dates subject to change.\\nTop 6 quali
 fy to AAU Junior Olympics\n
UID:e2d99e4a-e6fc-49fc-bf0e-ea722f5fa0af@openai
SUMMARY:AAU Regional Qualifier
DTSTART;VALUE=DATE:20260625
DTEND;VALUE=DATE:20260629
CLASS:PUBLIC
PRIORITY:5
DTSTAMP:20260421T101941Z
TRANSP:OPAQUE
STATUS:CONFIRMED
SEQUENCE:0
LOCATION:Orlando\, FL
X-MICROSOFT-CDO-APPT-SEQUENCE:0
X-MICROSOFT-CDO-BUSYSTATUS:TENTATIVE
X-MICROSOFT-CDO-INTENDEDSTATUS:BUSY
X-MICROSOFT-CDO-ALLDAYEVENT:TRUE
X-MICROSOFT-CDO-IMPORTANCE:1
X-MICROSOFT-CDO-INSTTYPE:0
X-MICROSOFT-DONOTFORWARDMEETING:FALSE
X-MICROSOFT-DISALLOW-COUNTER:FALSE
X-MICROSOFT-REQUESTEDATTENDANCEMODE:DEFAULT
X-MICROSOFT-ISRESPONSEREQUESTED:FALSE
END:VEVENT
BEGIN:VEVENT
DESCRIPTION:Tentative meet schedule. Dates subject to change.\n
UID:5e4e8fb9-1a6c-4874-823e-d05cc43f8226@openai
SUMMARY:USATF Region 4 Qualifier
DTSTART;VALUE=DATE:20260709
DTEND;VALUE=DATE:20260713
CLASS:PUBLIC
PRIORITY:5
DTSTAMP:20260421T101941Z
TRANSP:OPAQUE
STATUS:CONFIRMED
SEQUENCE:0
LOCATION:Carrollton\, GA
X-MICROSOFT-CDO-APPT-SEQUENCE:0
X-MICROSOFT-CDO-BUSYSTATUS:TENTATIVE
X-MICROSOFT-CDO-INTENDEDSTATUS:BUSY
X-MICROSOFT-CDO-ALLDAYEVENT:TRUE
X-MICROSOFT-CDO-IMPORTANCE:1
X-MICROSOFT-CDO-INSTTYPE:0
X-MICROSOFT-DONOTFORWARDMEETING:FALSE
X-MICROSOFT-DISALLOW-COUNTER:FALSE
X-MICROSOFT-REQUESTEDATTENDANCEMODE:DEFAULT
X-MICROSOFT-ISRESPONSEREQUESTED:FALSE
END:VEVENT
BEGIN:VEVENT
DESCRIPTION:Tentative meet schedule. Dates subject to change.\\nFull meet s
 chedule: View PDF\n
UID:95b1b5f1-48d9-4a4e-ab1e-6710f342784e@openai
SUMMARY:OTD Timing Summer Series #4
DTSTART;VALUE=DATE:20260711
DTEND;VALUE=DATE:20260712
CLASS:PUBLIC
PRIORITY:5
DTSTAMP:20260421T101941Z
TRANSP:OPAQUE
STATUS:CONFIRMED
SEQUENCE:0
LOCATION:Tenoroc High School\, Lakeland
X-MICROSOFT-CDO-APPT-SEQUENCE:0
X-MICROSOFT-CDO-BUSYSTATUS:TENTATIVE
X-MICROSOFT-CDO-INTENDEDSTATUS:BUSY
X-MICROSOFT-CDO-ALLDAYEVENT:TRUE
X-MICROSOFT-CDO-IMPORTANCE:1
X-MICROSOFT-CDO-INSTTYPE:0
X-MICROSOFT-DONOTFORWARDMEETING:FALSE
X-MICROSOFT-DISALLOW-COUNTER:FALSE
X-MICROSOFT-REQUESTEDATTENDANCEMODE:DEFAULT
X-MICROSOFT-ISRESPONSEREQUESTED:FALSE
END:VEVENT
BEGIN:VEVENT
DESCRIPTION:Tentative meet schedule. Dates subject to change.\n
UID:ba388750-ce76-4625-a0ba-71a557fa1da0@openai
SUMMARY:TNT Track Club Invitational
DTSTART;VALUE=DATE:20260718
DTEND;VALUE=DATE:20260719
CLASS:PUBLIC
PRIORITY:5
DTSTAMP:20260421T101941Z
TRANSP:OPAQUE
STATUS:CONFIRMED
SEQUENCE:0
LOCATION:Cypress Creek HS\, Orlando\, FL
X-MICROSOFT-CDO-APPT-SEQUENCE:0
X-MICROSOFT-CDO-BUSYSTATUS:TENTATIVE
X-MICROSOFT-CDO-INTENDEDSTATUS:BUSY
X-MICROSOFT-CDO-ALLDAYEVENT:TRUE
X-MICROSOFT-CDO-IMPORTANCE:1
X-MICROSOFT-CDO-INSTTYPE:0
X-MICROSOFT-DONOTFORWARDMEETING:FALSE
X-MICROSOFT-DISALLOW-COUNTER:FALSE
X-MICROSOFT-REQUESTEDATTENDANCEMODE:DEFAULT
X-MICROSOFT-ISRESPONSEREQUESTED:FALSE
END:VEVENT
BEGIN:VEVENT
DESCRIPTION:Tentative meet schedule. Dates subject to change.\\nFull meet s
 chedule: View PDF\n
UID:c5edc1d5-5dc9-463e-adbb-01d7caae173b@openai
SUMMARY:OTD Timing Summer Series #5
DTSTART;VALUE=DATE:20260725
DTEND;VALUE=DATE:20260726
CLASS:PUBLIC
PRIORITY:5
DTSTAMP:20260421T101941Z
TRANSP:OPAQUE
STATUS:CONFIRMED
SEQUENCE:0
LOCATION:Tenoroc High School\, Lakeland
X-MICROSOFT-CDO-APPT-SEQUENCE:0
X-MICROSOFT-CDO-BUSYSTATUS:TENTATIVE
X-MICROSOFT-CDO-INTENDEDSTATUS:BUSY
X-MICROSOFT-CDO-ALLDAYEVENT:TRUE
X-MICROSOFT-CDO-IMPORTANCE:1
X-MICROSOFT-CDO-INSTTYPE:0
X-MICROSOFT-DONOTFORWARDMEETING:FALSE
X-MICROSOFT-DISALLOW-COUNTER:FALSE
X-MICROSOFT-REQUESTEDATTENDANCEMODE:DEFAULT
X-MICROSOFT-ISRESPONSEREQUESTED:FALSE
END:VEVENT
BEGIN:VEVENT
DESCRIPTION:Tentative meet schedule. Dates subject to change.\n
UID:f9ca7d09-34e4-478f-9741-e6e299ff1e12@openai
SUMMARY:USATF National Champs
DTSTART;VALUE=DATE:20260727
DTEND;VALUE=DATE:20260803
CLASS:PUBLIC
PRIORITY:5
DTSTAMP:20260421T101941Z
TRANSP:OPAQUE
STATUS:CONFIRMED
SEQUENCE:0
LOCATION:Cerritos College\, CA
X-MICROSOFT-CDO-APPT-SEQUENCE:0
X-MICROSOFT-CDO-BUSYSTATUS:TENTATIVE
X-MICROSOFT-CDO-INTENDEDSTATUS:BUSY
X-MICROSOFT-CDO-ALLDAYEVENT:TRUE
X-MICROSOFT-CDO-IMPORTANCE:1
X-MICROSOFT-CDO-INSTTYPE:0
X-MICROSOFT-DONOTFORWARDMEETING:FALSE
X-MICROSOFT-DISALLOW-COUNTER:FALSE
X-MICROSOFT-REQUESTEDATTENDANCEMODE:DEFAULT
X-MICROSOFT-ISRESPONSEREQUESTED:FALSE
END:VEVENT
BEGIN:VEVENT
DESCRIPTION:Tentative meet schedule. Dates subject to change.\n
UID:5df6e759-0843-4d5f-9a8e-063bc9d91c86@openai
SUMMARY:AAU Junior Olympic Games
DTSTART;VALUE=DATE:20260801
DTEND;VALUE=DATE:20260809
CLASS:PUBLIC
PRIORITY:5
DTSTAMP:20260421T101941Z
TRANSP:OPAQUE
STATUS:CONFIRMED
SEQUENCE:0
LOCATION:Drake Stadium\, Des Moines
X-MICROSOFT-CDO-APPT-SEQUENCE:0
X-MICROSOFT-CDO-BUSYSTATUS:TENTATIVE
X-MICROSOFT-CDO-INTENDEDSTATUS:BUSY
X-MICROSOFT-CDO-ALLDAYEVENT:TRUE
X-MICROSOFT-CDO-IMPORTANCE:1
X-MICROSOFT-CDO-INSTTYPE:0
X-MICROSOFT-DONOTFORWARDMEETING:FALSE
X-MICROSOFT-DISALLOW-COUNTER:FALSE
X-MICROSOFT-REQUESTEDATTENDANCEMODE:DEFAULT
X-MICROSOFT-ISRESPONSEREQUESTED:FALSE
END:VEVENT
BEGIN:VEVENT
DESCRIPTION:Tentative meet schedule. Dates subject to change.\\nFull meet s
 chedule: View PDF\n
UID:ebebd77f-e6cf-4099-a3ac-1b555442d66d@openai
SUMMARY:OTD Timing Summer Series #6
DTSTART;VALUE=DATE:20260801
DTEND;VALUE=DATE:20260802
CLASS:PUBLIC
PRIORITY:5
DTSTAMP:20260421T101941Z
TRANSP:OPAQUE
STATUS:CONFIRMED
SEQUENCE:0
LOCATION:Tenoroc High School\, Lakeland
X-MICROSOFT-CDO-APPT-SEQUENCE:0
X-MICROSOFT-CDO-BUSYSTATUS:TENTATIVE
X-MICROSOFT-CDO-INTENDEDSTATUS:BUSY
X-MICROSOFT-CDO-ALLDAYEVENT:TRUE
X-MICROSOFT-CDO-IMPORTANCE:1
X-MICROSOFT-CDO-INSTTYPE:0
X-MICROSOFT-DONOTFORWARDMEETING:FALSE
X-MICROSOFT-DISALLOW-COUNTER:FALSE
X-MICROSOFT-REQUESTEDATTENDANCEMODE:DEFAULT
X-MICROSOFT-ISRESPONSEREQUESTED:FALSE
END:VEVENT
END:VCALENDAR
